BEGIN:VCALENDAR
VERSION:2.0
PRODID:-//CCOM Manitoba - ECPv6.15.20//NONSGML v1.0//EN
CALSCALE:GREGORIAN
METHOD:PUBLISH
X-WR-CALNAME:CCOM Manitoba
X-ORIGINAL-URL:https://ccom-manitoba.com
X-WR-CALDESC:Events for CCOM Manitoba
REFRESH-INTERVAL;VALUE=DURATION:PT1H
X-Robots-Tag:noindex
X-PUBLISHED-TTL:PT1H
BEGIN:VTIMEZONE
TZID:UTC
BEGIN:STANDARD
TZOFFSETFROM:+0000
TZOFFSETTO:+0000
TZNAME:UTC
DTSTART:20240101T000000
END:STANDARD
END:VTIMEZONE
BEGIN:VEVENT
DTSTART;TZID=UTC:20250222T180000
DTEND;TZID=UTC:20250222T220000
DTSTAMP:20260420T202616
CREATED:20250122T184522Z
LAST-MODIFIED:20250122T184522Z
UID:3335-1740247200-1740261600@ccom-manitoba.com
SUMMARY:GCO - Republic Day Celebration & Pot Luck Supper
DESCRIPTION:GCO – Republic Day Celebration & Pot Luck Supper
URL:https://ccom-manitoba.com/event/gco-republic-day-celebration-pot-luck-supper/
LOCATION:Afro Caribbean Association of Manitoba (ACAM) Hall\, 259 Watt Street\, Winnipeg\, Manitoba\, R2K 2R5\, Canada
ORGANIZER;CN="Guyanese Cultural Organization":MAILTO:guyaneseculturalorg@gmail.com
END:VEVENT
END:VCALENDAR