BEGIN:VCALENDAR
VERSION:2.0
PRODID:-//CCOM Manitoba - ECPv6.15.20//NONSGML v1.0//EN
CALSCALE:GREGORIAN
METHOD:PUBLISH
X-WR-CALNAME:CCOM Manitoba
X-ORIGINAL-URL:https://ccom-manitoba.com
X-WR-CALDESC:Events for CCOM Manitoba
REFRESH-INTERVAL;VALUE=DURATION:PT1H
X-Robots-Tag:noindex
X-PUBLISHED-TTL:PT1H
BEGIN:VTIMEZONE
TZID:UTC
BEGIN:STANDARD
TZOFFSETFROM:+0000
TZOFFSETTO:+0000
TZNAME:UTC
DTSTART:20240101T000000
END:STANDARD
END:VTIMEZONE
BEGIN:VEVENT
DTSTART;TZID=UTC:20250412T130000
DTEND;TZID=UTC:20250412T150000
DTSTAMP:20260420T164519
CREATED:20250415T005706Z
LAST-MODIFIED:20250415T010131Z
UID:3356-1744462800-1744470000@ccom-manitoba.com
SUMMARY:ACAM - Prostate Health Seminar
DESCRIPTION:AFRO-CARIBBEAN ASSOCIATION OF MANITOBA\nPresents \nPROSTATE HEALTH & ONLINE SAFETY \nSymposium\nOur symposium has something for everyone-join us to grow your awareness on Prostate Health and learn how to safe guard yourself online from fraud and phishing scams. \nSaturday\, April 12\, 2025\nAt 1 PM-3 PM\n2259 Watt Street\, Winnipeg\, MB R2K 2R4\n204-667-6919
URL:https://ccom-manitoba.com/event/acam-prostate-health-seminar/
LOCATION:Afro Caribbean Association of Manitoba (ACAM) Hall\, 259 Watt Street\, Winnipeg\, Manitoba\, R2K 2R5\, Canada
ATTACH;FMTTYPE=image/jpeg:https://ccom-manitoba.com/wp-content/uploads/2025/04/ACAM-prostate-health-.jpg
ORGANIZER;CN="Afro-Caribbean Association Of Manitoba Inc.":MAILTO:afro_car@msn.com
END:VEVENT
END:VCALENDAR