BEGIN:VCALENDAR
VERSION:2.0
PRODID:-//CCOM Manitoba - ECPv6.15.20//NONSGML v1.0//EN
CALSCALE:GREGORIAN
METHOD:PUBLISH
X-ORIGINAL-URL:https://ccom-manitoba.com
X-WR-CALDESC:Events for CCOM Manitoba
REFRESH-INTERVAL;VALUE=DURATION:PT1H
X-Robots-Tag:noindex
X-PUBLISHED-TTL:PT1H
BEGIN:VTIMEZONE
TZID:UTC
BEGIN:STANDARD
TZOFFSETFROM:+0000
TZOFFSETTO:+0000
TZNAME:UTC
DTSTART:20240101T000000
END:STANDARD
END:VTIMEZONE
BEGIN:VEVENT
DTSTART;TZID=UTC:20250516T180000
DTEND;TZID=UTC:20250516T220000
DTSTAMP:20260420T160914
CREATED:20250415T013714Z
LAST-MODIFIED:20250415T013714Z
UID:3367-1747418400-1747432800@ccom-manitoba.com
SUMMARY:CCOM - Friday Night Family
DESCRIPTION:THE COUNCIL OF CARIBBEAN ORGANIZATIONS OF MANITOBA INC.\n1100 Fife Street Winnipeg MB R2X 3A5\nFRIDAY NIGHT FAMILY DINNER\nLet someone else do the cooking Relax and Enjoy a Meal Spend the evening catching up with friends!\nFriday\, May 16th 6:00 P.M. 10:00P.M.\nCost: $15.00 (Pre-Orders accepted)\nText: 204-996-2091\nWebsite: http://ccom-manitoba.com/contact
URL:https://ccom-manitoba.com/event/ccom-friday-night-family/
LOCATION:Caribbean Community Cultural Centre (CCCC)\, 1100 Fife Street\, Winnipeg\, Manitoba\, R2X 3A5\, Canada
ATTACH;FMTTYPE=image/jpeg:https://ccom-manitoba.com/wp-content/uploads/2025/04/CCOM-Family-Night-May-16-2025-scaled.jpg
ORGANIZER;CN="The Council of Caribbean Organizations of MB (CCOM)":MAILTO:admin@ccom-manitoba.com
END:VEVENT
END:VCALENDAR