BEGIN:VCALENDAR
VERSION:2.0
PRODID:-//CCOM Manitoba - ECPv6.15.20//NONSGML v1.0//EN
CALSCALE:GREGORIAN
METHOD:PUBLISH
X-WR-CALNAME:CCOM Manitoba
X-ORIGINAL-URL:https://ccom-manitoba.com
X-WR-CALDESC:Events for CCOM Manitoba
REFRESH-INTERVAL;VALUE=DURATION:PT1H
X-Robots-Tag:noindex
X-PUBLISHED-TTL:PT1H
BEGIN:VTIMEZONE
TZID:UTC
BEGIN:STANDARD
TZOFFSETFROM:+0000
TZOFFSETTO:+0000
TZNAME:UTC
DTSTART:20240101T000000
END:STANDARD
END:VTIMEZONE
BEGIN:VEVENT
DTSTART;TZID=UTC:20250705T180000
DTEND;TZID=UTC:20250705T220000
DTSTAMP:20260420T130721
CREATED:20250619T025039Z
LAST-MODIFIED:20250619T025039Z
UID:3417-1751738400-1751752800@ccom-manitoba.com
SUMMARY:SVG: Calypso Family Fun Day
DESCRIPTION:
URL:https://ccom-manitoba.com/event/svg-calypso-family-fun-day-2/
LOCATION:Manitoba
END:VEVENT
BEGIN:VEVENT
DTSTART;TZID=UTC:20250705T180000
DTEND;TZID=UTC:20250705T233000
DTSTAMP:20260420T130721
CREATED:20250415T005118Z
LAST-MODIFIED:20250415T005123Z
UID:3351-1751738400-1751758200@ccom-manitoba.com
SUMMARY:SVG - Ah we kind of food
DESCRIPTION:
URL:https://ccom-manitoba.com/event/svg-ah-we-kind-of-food/
LOCATION:Manitoba
END:VEVENT
END:VCALENDAR