BEGIN:VCALENDAR
VERSION:2.0
PRODID:-//CCOM Manitoba - ECPv6.15.20//NONSGML v1.0//EN
CALSCALE:GREGORIAN
METHOD:PUBLISH
X-ORIGINAL-URL:https://ccom-manitoba.com
X-WR-CALDESC:Events for CCOM Manitoba
REFRESH-INTERVAL;VALUE=DURATION:PT1H
X-Robots-Tag:noindex
X-PUBLISHED-TTL:PT1H
BEGIN:VTIMEZONE
TZID:UTC
BEGIN:STANDARD
TZOFFSETFROM:+0000
TZOFFSETTO:+0000
TZNAME:UTC
DTSTART:20240101T000000
END:STANDARD
END:VTIMEZONE
BEGIN:VEVENT
DTSTART;TZID=UTC:20250725T190000
DTEND;TZID=UTC:20250726T010000
DTSTAMP:20260420T131213
CREATED:20250619T025041Z
LAST-MODIFIED:20250619T025041Z
UID:3423-1753470000-1753491600@ccom-manitoba.com
SUMMARY:GCO: Dominos Competition
DESCRIPTION:
URL:https://ccom-manitoba.com/event/gco-dominos-competition/
LOCATION:Manitoba
ORGANIZER;CN="Guyanese Cultural Organization":MAILTO:guyaneseculturalorg@gmail.com
END:VEVENT
BEGIN:VEVENT
DTSTART;TZID=UTC:20250726T180000
DTEND;TZID=UTC:20250726T210000
DTSTAMP:20260420T131213
CREATED:20250619T025041Z
LAST-MODIFIED:20250724T030243Z
UID:3424-1753552800-1753563600@ccom-manitoba.com
SUMMARY:CCOM: Caribbean Heritage Month Wrap-Up Event
DESCRIPTION:Caribbean Heritage Month Wrap-Up\nCaribbean Heritage Month (CHM) Committee presents – CHM Wrap-Up\, this year’s finale. Showcasing the community centre’s newly relocated Library. A family games night with entertainment provided by some of this year’s Caribbean Pavilion artists. We welcome your feedback: What do you want future CHM celebrations to include? \nAdmission – By Donation \nTime – 7pm to 9pm \nLocation – 1100 Fife Street Winnipeg\, MB
URL:https://ccom-manitoba.com/event/ccom-caribbean-heritage-month-wrap-up-event-tentative/
LOCATION:Caribbean Community Cultural Centre (CCCC)\, 1100 Fife Street\, Winnipeg\, Manitoba\, R2X 3A5\, Canada
ATTACH;FMTTYPE=image/png:https://ccom-manitoba.com/wp-content/uploads/2025/06/CHM-Wrap-UP-Flyer.png
ORGANIZER;CN="The Council of Caribbean Organizations of MB (CCOM)":MAILTO:admin@ccom-manitoba.com
END:VEVENT
END:VCALENDAR