BEGIN:VCALENDAR
VERSION:2.0
PRODID:-//CCOM Manitoba - ECPv6.15.20//NONSGML v1.0//EN
CALSCALE:GREGORIAN
METHOD:PUBLISH
X-WR-CALNAME:CCOM Manitoba
X-ORIGINAL-URL:https://ccom-manitoba.com
X-WR-CALDESC:Events for CCOM Manitoba
REFRESH-INTERVAL;VALUE=DURATION:PT1H
X-Robots-Tag:noindex
X-PUBLISHED-TTL:PT1H
BEGIN:VTIMEZONE
TZID:UTC
BEGIN:STANDARD
TZOFFSETFROM:+0000
TZOFFSETTO:+0000
TZNAME:UTC
DTSTART:20240101T000000
END:STANDARD
END:VTIMEZONE
BEGIN:VEVENT
DTSTART;TZID=UTC:20250727T110000
DTEND;TZID=UTC:20250727T180000
DTSTAMP:20260420T130803
CREATED:20250619T025041Z
LAST-MODIFIED:20250619T025041Z
UID:3425-1753614000-1753639200@ccom-manitoba.com
SUMMARY:GCO: Annual Picnic
DESCRIPTION:
URL:https://ccom-manitoba.com/event/gco-annual-picnic/
LOCATION:Manitoba
ORGANIZER;CN="Guyanese Cultural Organization":MAILTO:guyaneseculturalorg@gmail.com
END:VEVENT
BEGIN:VEVENT
DTSTART;TZID=UTC:20250727T120000
DTEND;TZID=UTC:20250727T180000
DTSTAMP:20260420T130803
CREATED:20250619T025057Z
LAST-MODIFIED:20250619T025057Z
UID:3426-1753617600-1753639200@ccom-manitoba.com
SUMMARY:IOEMPU: Annual Picnic
DESCRIPTION:
URL:https://ccom-manitoba.com/event/ioempu-annual-picnic/
LOCATION:Manitoba
END:VEVENT
END:VCALENDAR