BEGIN:VCALENDAR
VERSION:2.0
PRODID:-//CCOM Manitoba - ECPv6.15.20//NONSGML v1.0//EN
CALSCALE:GREGORIAN
METHOD:PUBLISH
X-WR-CALNAME:CCOM Manitoba
X-ORIGINAL-URL:https://ccom-manitoba.com
X-WR-CALDESC:Events for CCOM Manitoba
REFRESH-INTERVAL;VALUE=DURATION:PT1H
X-Robots-Tag:noindex
X-PUBLISHED-TTL:PT1H
BEGIN:VTIMEZONE
TZID:UTC
BEGIN:STANDARD
TZOFFSETFROM:+0000
TZOFFSETTO:+0000
TZNAME:UTC
DTSTART:20240101T000000
END:STANDARD
END:VTIMEZONE
BEGIN:VEVENT
DTSTART;TZID=UTC:20250815T104500
DTEND;TZID=UTC:20250815T193000
DTSTAMP:20260420T144219
CREATED:20250528T222653Z
LAST-MODIFIED:20250528T222831Z
UID:3400-1755254700-1755286200@ccom-manitoba.com
SUMMARY:7th Annual Caribbean Canada Heart Health Education Golf Classic
DESCRIPTION:Join us at the 7th annual CCHHE Golf Classic. You’ll enjoy a day of fabulous golf\, have fun with clients and colleagues\, and help support humanitarian projects in the shipment of medical supplies to the most needed regions of the world and for the promotion of cardiovascular education\, research\, and prevention. All monies collected for and at the CCHEE Golf Tournament will go towards CCHHE’s efforts to promote cardiovascular health in Canada and in the Caribbean.
URL:https://ccom-manitoba.com/event/7th-annual-caribbean-canada-heart-health-education-golf-classic/
LOCATION:Oakwood Golf Course\, Municipal Rd 41 E\, Ste Anne\, Manitoba\, R5H 1R2\, Canada
ATTACH;FMTTYPE=image/png:https://ccom-manitoba.com/wp-content/uploads/2025/05/golf-787826_640.png
END:VEVENT
END:VCALENDAR