BEGIN:VCALENDAR
VERSION:2.0
PRODID:-//CCOM Manitoba - ECPv6.15.20//NONSGML v1.0//EN
CALSCALE:GREGORIAN
METHOD:PUBLISH
X-WR-CALNAME:CCOM Manitoba
X-ORIGINAL-URL:https://ccom-manitoba.com
X-WR-CALDESC:Events for CCOM Manitoba
REFRESH-INTERVAL;VALUE=DURATION:PT1H
X-Robots-Tag:noindex
X-PUBLISHED-TTL:PT1H
BEGIN:VTIMEZONE
TZID:UTC
BEGIN:STANDARD
TZOFFSETFROM:+0000
TZOFFSETTO:+0000
TZNAME:UTC
DTSTART:20240101T000000
END:STANDARD
END:VTIMEZONE
BEGIN:VEVENT
DTSTART;TZID=UTC:20250720T120000
DTEND;TZID=UTC:20250720T180000
DTSTAMP:20260420T173229
CREATED:20250619T025041Z
LAST-MODIFIED:20250619T025041Z
UID:3422-1753012800-1753034400@ccom-manitoba.com
SUMMARY:JAM: Annual Picnic
DESCRIPTION:
URL:https://ccom-manitoba.com/event/jam-annual-picnic/
LOCATION:Manitoba
END:VEVENT
BEGIN:VEVENT
DTSTART;TZID=UTC:20250719T123000
DTEND;TZID=UTC:20250719T210000
DTSTAMP:20260420T173229
CREATED:20250619T025041Z
LAST-MODIFIED:20250619T025041Z
UID:3421-1752928200-1752958800@ccom-manitoba.com
SUMMARY:BAW: Family Day Picnic
DESCRIPTION:
URL:https://ccom-manitoba.com/event/baw-family-day-picnic/
LOCATION:Manitoba
END:VEVENT
BEGIN:VEVENT
DTSTART;TZID=UTC:20250719T000000
DTEND;TZID=UTC:20250719T000000
DTSTAMP:20260420T173229
CREATED:20250122T184507Z
LAST-MODIFIED:20250122T184507Z
UID:3328-1752883200-1752883200@ccom-manitoba.com
SUMMARY:Barbados Association - BAW Family Day at Kildonan Park (tentative)
DESCRIPTION:Barbados Association – BAW Family Day at Kildonan Park (tentative)
URL:https://ccom-manitoba.com/event/barbados-association-baw-family-day-at-kildonan-park-tentative/
LOCATION:Kildonan Park\, 2015 Main Street\, Winnipeg\, Manitoba\, R2V 2B9
END:VEVENT
BEGIN:VEVENT
DTSTART;TZID=UTC:20250719T000000
DTEND;TZID=UTC:20250719T000000
DTSTAMP:20260420T173229
CREATED:20250122T184451Z
LAST-MODIFIED:20250122T184452Z
UID:3322-1752883200-1752883200@ccom-manitoba.com
SUMMARY:Barbados Association - Bronx Park Farmer’s Market (tentative)
DESCRIPTION:Barbados Association – Bronx Park Farmer’s Market (tentative)
URL:https://ccom-manitoba.com/event/barbados-association-bronx-park-farmers-market-tentative-3/
LOCATION:Manitoba
END:VEVENT
BEGIN:VEVENT
DTSTART;TZID=UTC:20250713T140000
DTEND;TZID=UTC:20250713T170000
DTSTAMP:20260420T173229
CREATED:20250619T025040Z
LAST-MODIFIED:20250619T025040Z
UID:3420-1752415200-1752426000@ccom-manitoba.com
SUMMARY:CCOM: Art Appreciation Day
DESCRIPTION:
URL:https://ccom-manitoba.com/event/ccom-art-appreciation-day-2/
LOCATION:Manitoba
ORGANIZER;CN="The Council of Caribbean Organizations of MB (CCOM)":MAILTO:admin@ccom-manitoba.com
END:VEVENT
BEGIN:VEVENT
DTSTART;TZID=UTC:20250712T100000
DTEND;TZID=UTC:20250712T160000
DTSTAMP:20260420T173229
CREATED:20250619T025040Z
LAST-MODIFIED:20250619T025040Z
UID:3419-1752314400-1752336000@ccom-manitoba.com
SUMMARY:55+: Garage & Bake Sale
DESCRIPTION:
URL:https://ccom-manitoba.com/event/55-garage-bake-sale/
LOCATION:Manitoba
END:VEVENT
BEGIN:VEVENT
DTSTART;TZID=UTC:20250712T000000
DTEND;TZID=UTC:20250712T000000
DTSTAMP:20260420T173229
CREATED:20250122T184451Z
LAST-MODIFIED:20250122T184452Z
UID:3321-1752278400-1752278400@ccom-manitoba.com
SUMMARY:Barbados Association - Bronx Park Farmer’s Market (tentative)
DESCRIPTION:Barbados Association – Bronx Park Farmer’s Market (tentative)
URL:https://ccom-manitoba.com/event/barbados-association-bronx-park-farmers-market-tentative-2/
LOCATION:Manitoba
END:VEVENT
BEGIN:VEVENT
DTSTART;TZID=UTC:20250709T190000
DTEND;TZID=UTC:20250709T210000
DTSTAMP:20260420T173229
CREATED:20250619T025040Z
LAST-MODIFIED:20250619T025040Z
UID:3418-1752087600-1752094800@ccom-manitoba.com
SUMMARY:CCHHE: Heart Health Symposium
DESCRIPTION:
URL:https://ccom-manitoba.com/event/cchhe-heart-health-symposium/
LOCATION:Manitoba
END:VEVENT
BEGIN:VEVENT
DTSTART;TZID=UTC:20250705T180000
DTEND;TZID=UTC:20250705T233000
DTSTAMP:20260420T173229
CREATED:20250415T005118Z
LAST-MODIFIED:20250415T005123Z
UID:3351-1751738400-1751758200@ccom-manitoba.com
SUMMARY:SVG - Ah we kind of food
DESCRIPTION:
URL:https://ccom-manitoba.com/event/svg-ah-we-kind-of-food/
LOCATION:Manitoba
END:VEVENT
BEGIN:VEVENT
DTSTART;TZID=UTC:20250705T180000
DTEND;TZID=UTC:20250705T220000
DTSTAMP:20260420T173229
CREATED:20250619T025039Z
LAST-MODIFIED:20250619T025039Z
UID:3417-1751738400-1751752800@ccom-manitoba.com
SUMMARY:SVG: Calypso Family Fun Day
DESCRIPTION:
URL:https://ccom-manitoba.com/event/svg-calypso-family-fun-day-2/
LOCATION:Manitoba
END:VEVENT
BEGIN:VEVENT
DTSTART;TZID=UTC:20250705T000000
DTEND;TZID=UTC:20250705T000000
DTSTAMP:20260420T173229
CREATED:20250122T184451Z
LAST-MODIFIED:20250122T184452Z
UID:3320-1751673600-1751673600@ccom-manitoba.com
SUMMARY:Barbados Association - Bronx Park Farmer’s Market (tentative)
DESCRIPTION:Barbados Association – Bronx Park Farmer’s Market (tentative)
URL:https://ccom-manitoba.com/event/barbados-association-bronx-park-farmers-market-tentative/
LOCATION:Manitoba
END:VEVENT
BEGIN:VEVENT
DTSTART;TZID=UTC:20250701T100000
DTEND;TZID=UTC:20250701T130000
DTSTAMP:20260420T173229
CREATED:20250619T025039Z
LAST-MODIFIED:20250619T025604Z
UID:3416-1751364000-1751374800@ccom-manitoba.com
SUMMARY:CCOM: Opening Breakfast & Proclamation
DESCRIPTION:
URL:https://ccom-manitoba.com/event/ccom-opening-breakfast-proclamation/
LOCATION:Manitoba
ATTACH;FMTTYPE=image/png:https://ccom-manitoba.com/wp-content/uploads/2025/06/2025-CHM.png
ORGANIZER;CN="The Council of Caribbean Organizations of MB (CCOM)":MAILTO:admin@ccom-manitoba.com
END:VEVENT
BEGIN:VEVENT
DTSTART;TZID=UTC:20250621T173000
DTEND;TZID=UTC:20250621T173000
DTSTAMP:20260420T173229
CREATED:20250122T184451Z
LAST-MODIFIED:20250506T123905Z
UID:3319-1750527000-1750527000@ccom-manitoba.com
SUMMARY:Barbados Association - Bajan Night
DESCRIPTION:Barbados Association – Bajan Night \n$15 at the door \nFood and refreshments available for sale
URL:https://ccom-manitoba.com/event/barbados-association-bajan-night/
LOCATION:Caribbean Community Cultural Centre (CCCC)\, 1100 Fife Street\, Winnipeg\, Manitoba\, R2X 3A5\, Canada
ATTACH;FMTTYPE=image/jpeg:https://ccom-manitoba.com/wp-content/uploads/2025/01/IMG_0654.jpg
END:VEVENT
BEGIN:VEVENT
DTSTART;TZID=UTC:20250601T000000
DTEND;TZID=UTC:20250601T000000
DTSTAMP:20260420T173229
CREATED:20250122T184450Z
LAST-MODIFIED:20250122T184451Z
UID:3318-1748736000-1748736000@ccom-manitoba.com
SUMMARY:Barbados Association - General meeting
DESCRIPTION:Barbados Association – General meeting
URL:https://ccom-manitoba.com/event/barbados-association-general-meeting-4/
LOCATION:Manitoba
END:VEVENT
BEGIN:VEVENT
DTSTART;TZID=UTC:20250531T110000
DTEND;TZID=UTC:20250531T150000
DTSTAMP:20260420T173229
CREATED:20250122T184522Z
LAST-MODIFIED:20250316T194136Z
UID:3337-1748689200-1748703600@ccom-manitoba.com
SUMMARY:GCO - Independence Day Celebration-Luncheon
DESCRIPTION:GCO – Independence Day Celebration-Luncheon
URL:https://ccom-manitoba.com/event/gco-independence-day-celebration-luncheon/
LOCATION:Caribbean Community Cultural Centre (CCCC)\, 1100 Fife Street\, Winnipeg\, Manitoba\, R2X 3A5\, Canada
ORGANIZER;CN="Guyanese Cultural Organization":MAILTO:guyaneseculturalorg@gmail.com
END:VEVENT
BEGIN:VEVENT
DTSTART;TZID=UTC:20250524T090000
DTEND;TZID=UTC:20250524T160000
DTSTAMP:20260420T173229
CREATED:20250515T014625Z
LAST-MODIFIED:20250515T014625Z
UID:3394-1748077200-1748102400@ccom-manitoba.com
SUMMARY:COMMUNITY GARAGE SALE (Saturday)
DESCRIPTION:COMMUNITY GARAGE SALE \n1100 Fife Street Winnipeg\, MB \nFriday\, May 23\, 2025 12—4 \nSat.\, May 24\, 2025 9 AM —4 PM \nA Charity Fund-Raiser to Support the Operating Costs of Programs and Services for our Seniors Club All Events are open to the General Public. \nFor information\, call Joy 204 880 5982 or Shirley 204 339 0453
URL:https://ccom-manitoba.com/event/community-garage-sale-saturday/
LOCATION:Caribbean Community Cultural Centre (CCCC)\, 1100 Fife Street\, Winnipeg\, Manitoba\, R2X 3A5\, Canada
ATTACH;FMTTYPE=image/png:https://ccom-manitoba.com/wp-content/uploads/2025/05/Screenshot-2025-05-14-at-8.42.06 PM.png
END:VEVENT
BEGIN:VEVENT
DTSTART;TZID=UTC:20250523T120000
DTEND;TZID=UTC:20250523T160000
DTSTAMP:20260420T173229
CREATED:20250515T014443Z
LAST-MODIFIED:20250515T014608Z
UID:3391-1748001600-1748016000@ccom-manitoba.com
SUMMARY:COMMUNITY GARAGE SALE (Friday)
DESCRIPTION:COMMUNITY GARAGE SALE \n1100 Fife Street Winnipeg\, MB \nFriday\, May 23\, 2025 12—4 \nSat.\, May 24\, 2025 9 AM —4 PM \nA Charity Fund-Raiser to Support the Operating Costs of Programs and Services for our Seniors Club All Events are open to the General Public. \nFor information\, call Joy 204 880 5982 or Shirley 204 339 0453
URL:https://ccom-manitoba.com/event/community-garage-sale/
LOCATION:Caribbean Community Cultural Centre (CCCC)\, 1100 Fife Street\, Winnipeg\, Manitoba\, R2X 3A5\, Canada
ATTACH;FMTTYPE=image/png:https://ccom-manitoba.com/wp-content/uploads/2025/05/Screenshot-2025-05-14-at-8.42.06 PM.png
END:VEVENT
BEGIN:VEVENT
DTSTART;TZID=UTC:20250516T180000
DTEND;TZID=UTC:20250516T220000
DTSTAMP:20260420T173229
CREATED:20250415T013714Z
LAST-MODIFIED:20250415T013714Z
UID:3367-1747418400-1747432800@ccom-manitoba.com
SUMMARY:CCOM - Friday Night Family
DESCRIPTION:THE COUNCIL OF CARIBBEAN ORGANIZATIONS OF MANITOBA INC.\n1100 Fife Street Winnipeg MB R2X 3A5\nFRIDAY NIGHT FAMILY DINNER\nLet someone else do the cooking Relax and Enjoy a Meal Spend the evening catching up with friends!\nFriday\, May 16th 6:00 P.M. 10:00P.M.\nCost: $15.00 (Pre-Orders accepted)\nText: 204-996-2091\nWebsite: http://ccom-manitoba.com/contact
URL:https://ccom-manitoba.com/event/ccom-friday-night-family/
LOCATION:Caribbean Community Cultural Centre (CCCC)\, 1100 Fife Street\, Winnipeg\, Manitoba\, R2X 3A5\, Canada
ATTACH;FMTTYPE=image/jpeg:https://ccom-manitoba.com/wp-content/uploads/2025/04/CCOM-Family-Night-May-16-2025-scaled.jpg
ORGANIZER;CN="The Council of Caribbean Organizations of MB (CCOM)":MAILTO:admin@ccom-manitoba.com
END:VEVENT
BEGIN:VEVENT
DTSTART;TZID=UTC:20250510T200000
DTEND;TZID=UTC:20250511T010000
DTSTAMP:20260420T173229
CREATED:20250420T041346Z
LAST-MODIFIED:20250504T194403Z
UID:3370-1746907200-1746925200@ccom-manitoba.com
SUMMARY:Folklorama Fundraising Social - Bring Your Flag!
DESCRIPTION:The Council of Caribbean Organizations of Manitoba (CCOM) Presents… \nCaribbean Pavilion Fundraiser – Bring Ya Flag Social\nMay 10\, 2025 8PM – 1AM \nOld School Reggae\, Soca and RnB \nLive Music\, Cash Bar\, Food\, 50/50 and More! \nAdmission: $15.00 \n1100 Fife Street\, Winnipeg\, MB
URL:https://ccom-manitoba.com/event/folklorama-fundraising-social-bring-your-flag/
LOCATION:Caribbean Community Cultural Centre (CCCC)\, 1100 Fife Street\, Winnipeg\, Manitoba\, R2X 3A5\, Canada
ATTACH;FMTTYPE=image/jpeg:https://ccom-manitoba.com/wp-content/uploads/2025/04/IMG_6868-scaled.jpg
ORGANIZER;CN="The Council of Caribbean Organizations of MB (CCOM)":MAILTO:admin@ccom-manitoba.com
END:VEVENT
BEGIN:VEVENT
DTSTART;TZID=UTC:20250504T000000
DTEND;TZID=UTC:20250504T000000
DTSTAMP:20260420T173229
CREATED:20250122T184449Z
LAST-MODIFIED:20250122T184449Z
UID:3317-1746316800-1746316800@ccom-manitoba.com
SUMMARY:Barbados Association - General meeting
DESCRIPTION:Barbados Association – General meeting
URL:https://ccom-manitoba.com/event/barbados-association-general-meeting-3/
LOCATION:Manitoba
END:VEVENT
BEGIN:VEVENT
DTSTART;TZID=UTC:20250429T183000
DTEND;TZID=UTC:20250429T210000
DTSTAMP:20260420T173229
CREATED:20250420T044027Z
LAST-MODIFIED:20250420T044032Z
UID:3374-1745951400-1745960400@ccom-manitoba.com
SUMMARY:Community Meeting
DESCRIPTION:You’re invited to join us for a Community Meeting hosted by Black History Manitoba on April 29th at 6:30 PM at Truth and Life Worship Center (51 Richfield Ave\, Winnipeg MB). \nThis meeting is a chance to uplift Black voices\, celebrate culture\, and collaborate with community leaders to build opportunities for growth\, communication\, and success. \nTopics include:\nMaintaining Community Connections\nNetworking & Partnerships\nCommunity Building & Support\nEvent Planning & Engagement \nThis is an open invitation to our community\, please share this information with those in your organization and network. \nLet’s connect\, share ideas\, and grow stronger together!\nhttps://form.typeform.com/to/dyul1OrN \n(Scan the QR code on the flyer or click the link above)
URL:https://ccom-manitoba.com/event/community-meeting/
LOCATION:Truth and Life Worship Center\, 51 Richfield Avenue\, Winnipeg\, Manitoba\, R2M 2R9\, Canada
ATTACH;FMTTYPE=image/jpeg:https://ccom-manitoba.com/wp-content/uploads/2025/04/a414f44d-5562-452f-8a17-a9d8b7f4bd10.jpg
ORGANIZER;CN="Black History Manitoba":MAILTO:Bhmwinnipeg@gmail.com
END:VEVENT
BEGIN:VEVENT
DTSTART;TZID=UTC:20250420T140000
DTEND;TZID=UTC:20250420T170000
DTSTAMP:20260420T173229
CREATED:20250122T184522Z
LAST-MODIFIED:20250316T193404Z
UID:3336-1745157600-1745168400@ccom-manitoba.com
SUMMARY:GCO - Annual Spring Tea and Bake Sale
DESCRIPTION:Highlights of the Event: \nTea & Treats: Enjoy a variety of teas paired with homemade baked goods. \nBake Sale: Don’t miss out on our fabulous bake sale featuring scrumptious goodies for you to take home! \nDress Code: Ladies\, please wear your favorite hats and gloves for a bit of extra charm!
URL:https://ccom-manitoba.com/event/gco-annual-spring-tea/
LOCATION:Caribbean Community Cultural Centre (CCCC)\, 1100 Fife Street\, Winnipeg\, Manitoba\, R2X 3A5\, Canada
ATTACH;FMTTYPE=image/jpeg:https://ccom-manitoba.com/wp-content/uploads/2025/01/pexels-ngo-tr-ng-an-837314-1717767.jpg
ORGANIZER;CN="Guyanese Cultural Organization":MAILTO:guyaneseculturalorg@gmail.com
END:VEVENT
BEGIN:VEVENT
DTSTART;TZID=UTC:20250412T130000
DTEND;TZID=UTC:20250412T150000
DTSTAMP:20260420T173229
CREATED:20250415T005706Z
LAST-MODIFIED:20250415T010131Z
UID:3356-1744462800-1744470000@ccom-manitoba.com
SUMMARY:ACAM - Prostate Health Seminar
DESCRIPTION:AFRO-CARIBBEAN ASSOCIATION OF MANITOBA\nPresents \nPROSTATE HEALTH & ONLINE SAFETY \nSymposium\nOur symposium has something for everyone-join us to grow your awareness on Prostate Health and learn how to safe guard yourself online from fraud and phishing scams. \nSaturday\, April 12\, 2025\nAt 1 PM-3 PM\n2259 Watt Street\, Winnipeg\, MB R2K 2R4\n204-667-6919
URL:https://ccom-manitoba.com/event/acam-prostate-health-seminar/
LOCATION:Afro Caribbean Association of Manitoba (ACAM) Hall\, 259 Watt Street\, Winnipeg\, Manitoba\, R2K 2R5\, Canada
ATTACH;FMTTYPE=image/jpeg:https://ccom-manitoba.com/wp-content/uploads/2025/04/ACAM-prostate-health-.jpg
ORGANIZER;CN="Afro-Caribbean Association Of Manitoba Inc.":MAILTO:afro_car@msn.com
END:VEVENT
BEGIN:VEVENT
DTSTART;TZID=UTC:20250411T170000
DTEND;TZID=UTC:20250411T220000
DTSTAMP:20260420T173229
CREATED:20250415T004422Z
LAST-MODIFIED:20250415T004748Z
UID:3346-1744390800-1744408800@ccom-manitoba.com
SUMMARY:Jamaica - Family Night
DESCRIPTION:You’re Invited! \nFAMILY NIGHT AT JAM! \nMark your calendars and gather your loved ones for an unforgettable Family Night at the Jamaican Association of Manitoba! \nThis special evening is all about fun\, laughter\, and community spirit. Whether you’re looking to enjoy music\, games for the kids\, dominoes for the adults\, or explore membership opportunities\, there’s something for everyone! \n📅 When? Friday\, April 11\, 2025 \n⏰ What Time? Doors open at 5 PM \n📍 Where? Jamaican Association of Manitoba (1098 Winnipeg Ave) \nDon’t miss this chance to connect\, relax\, and enjoy good company. Admission is FREE\, but we encourage you to RSVP so we can plan for an amazing night! \n🔗 RSVP TODAY! \nBring your family\, bring your friends—let’s make it a night to remember!
URL:https://ccom-manitoba.com/event/jamaica-family-night/
LOCATION:Jamaican Association-Manitoba\, 1098 Winnipeg Ave\, Winnipeg\, MB\, R3E 0S3\, Canada
ATTACH;FMTTYPE=image/png:https://ccom-manitoba.com/wp-content/uploads/2025/04/FAMILY-NIGHT-AT-JAM.png
ORGANIZER;CN="Jamaican Association of Manitoba":MAILTO:info@jamaicanassociation.org
END:VEVENT
BEGIN:VEVENT
DTSTART;TZID=UTC:20250406T000000
DTEND;TZID=UTC:20250406T000000
DTSTAMP:20260420T173229
CREATED:20250122T184448Z
LAST-MODIFIED:20250122T184448Z
UID:3316-1743897600-1743897600@ccom-manitoba.com
SUMMARY:Barbados Association - General meeting
DESCRIPTION:Barbados Association – General meeting
URL:https://ccom-manitoba.com/event/barbados-association-general-meeting-2/
LOCATION:Manitoba
END:VEVENT
BEGIN:VEVENT
DTSTART;TZID=UTC:20250302T000000
DTEND;TZID=UTC:20250302T000000
DTSTAMP:20260420T173229
CREATED:20250122T184448Z
LAST-MODIFIED:20250122T184448Z
UID:3315-1740873600-1740873600@ccom-manitoba.com
SUMMARY:Barbados Association - Annual General Meeting (AGM)
DESCRIPTION:Barbados Association – Annual General Meeting (AGM)
URL:https://ccom-manitoba.com/event/barbados-association-annual-general-meeting-agm/
LOCATION:Manitoba
END:VEVENT
BEGIN:VEVENT
DTSTART;TZID=UTC:20250222T180000
DTEND;TZID=UTC:20250222T220000
DTSTAMP:20260420T173229
CREATED:20250122T184522Z
LAST-MODIFIED:20250122T184522Z
UID:3335-1740247200-1740261600@ccom-manitoba.com
SUMMARY:GCO - Republic Day Celebration & Pot Luck Supper
DESCRIPTION:GCO – Republic Day Celebration & Pot Luck Supper
URL:https://ccom-manitoba.com/event/gco-republic-day-celebration-pot-luck-supper/
LOCATION:Afro Caribbean Association of Manitoba (ACAM) Hall\, 259 Watt Street\, Winnipeg\, Manitoba\, R2K 2R5\, Canada
ORGANIZER;CN="Guyanese Cultural Organization":MAILTO:guyaneseculturalorg@gmail.com
END:VEVENT
BEGIN:VEVENT
DTSTART;TZID=UTC:20250213T100000
DTEND;TZID=UTC:20250213T143000
DTSTAMP:20260420T173229
CREATED:20250117T020403Z
LAST-MODIFIED:20250119T193943Z
UID:3301-1739440800-1739457000@ccom-manitoba.com
SUMMARY:Manitoba Hydro Black Employee Resource Group (BERG): 2025 BHM Cultural Market!
DESCRIPTION:As part of the Black History Month of celebrations themed “Changing the narrative by finding our voice”\, BERG is excited to inform you about our Black History Month Cultural Market event which is an upcoming event taking place on February 13th from 10am to 2:30pm at 360 Portage Ave\, The Manitoba Hydro Building. \nOur BHM cultural market celebrates the rich heritage of the Black Canadian Community and highlights Black-owned businesses across Manitoba. We believe this event can offer a fantastic opportunity for black-owned businesses to participate and connect with a diverse audience. \n\nWe have complimentary booths available at the cultural market and encourage you to book a booth to promote your products and/or services and engage with the local community.  \n Calling All Performers!  We also have spots available for performers who can add to the vibrant atmosphere of the event. \nIf you are interested in participating in our Black History Month Cultural Market\, please let us know by responding to this email: blackemployeeresourcegroup@hydro.mb.ca by January 24\, 2025\, and we will add your business to the list for further communications & instructions. 
URL:https://ccom-manitoba.com/event/manitoba-hydro-black-employee-resource-group-berg-2025-bhm-cultural-market/
LOCATION:Manitoba Hydro Place\, 360 Portage Ave\, Winnipeg\, Manitoba\, R3C 0G8\, Canada
ATTACH;FMTTYPE=image/jpeg:https://ccom-manitoba.com/wp-content/uploads/2025/01/image002.jpg
ORGANIZER;CN="Manitoba Hydro Black Employee Resource Group (BERG)":MAILTO:blackemployeeresourcegroup@hydro.mb.ca
END:VEVENT
BEGIN:VEVENT
DTSTART;TZID=UTC:20250202T000000
DTEND;TZID=UTC:20250202T000000
DTSTAMP:20260420T173229
CREATED:20250122T184448Z
LAST-MODIFIED:20250122T184448Z
UID:3314-1738454400-1738454400@ccom-manitoba.com
SUMMARY:Barbados Association - General meeting
DESCRIPTION:Barbados Association – General meeting
URL:https://ccom-manitoba.com/event/barbados-association-general-meeting/
LOCATION:Manitoba
END:VEVENT
BEGIN:VEVENT
DTSTART;TZID=UTC:20250105T000000
DTEND;TZID=UTC:20250105T000000
DTSTAMP:20260420T173229
CREATED:20250122T184448Z
LAST-MODIFIED:20250122T184448Z
UID:3313-1736035200-1736035200@ccom-manitoba.com
SUMMARY:Barbados Association - General meeting & Membership Fees Due
DESCRIPTION:Barbados Association – General meeting & Membership Fees Due
URL:https://ccom-manitoba.com/event/barbados-association-general-meeting-membership-fees-due/
LOCATION:Manitoba
END:VEVENT
END:VCALENDAR