BEGIN:VCALENDAR
VERSION:2.0
PRODID:-//CCOM Manitoba - ECPv6.15.20//NONSGML v1.0//EN
CALSCALE:GREGORIAN
METHOD:PUBLISH
X-WR-CALNAME:CCOM Manitoba
X-ORIGINAL-URL:https://ccom-manitoba.com
X-WR-CALDESC:Events for CCOM Manitoba
REFRESH-INTERVAL;VALUE=DURATION:PT1H
X-Robots-Tag:noindex
X-PUBLISHED-TTL:PT1H
BEGIN:VTIMEZONE
TZID:UTC
BEGIN:STANDARD
TZOFFSETFROM:+0000
TZOFFSETTO:+0000
TZNAME:UTC
DTSTART:19690101T000000
END:STANDARD
END:VTIMEZONE
BEGIN:VEVENT
DTSTART;TZID=UTC:20230729T170000
DTEND;TZID=UTC:20230729T230000
DTSTAMP:20260421T192727
CREATED:20230710T231842Z
LAST-MODIFIED:20230710T232459Z
UID:1945-1690650000-1690671600@ccom-manitoba.com
SUMMARY:SVG Association 2023 Fundraiser - Ah We Kind Ah Food
DESCRIPTION:St. Vincent and the Grenadines Association of Winnipeg Inc. \n2023 Fundraiser – Ah We Kind Ah Food\nAt the Caribbean Community Cultural Centre – 1100 Fife Street\, Winnipeg\, Manitoba \nCome and Enjoy: \n\nVincy cuisine\nBake table\nTraditional drinks\nLive Vincy auction\nSilent auction\nVincy entertainment\nand more…
URL:https://ccom-manitoba.com/event/svg-association-2023-fundraiser-ah-we-kind-ah-food/
LOCATION:Caribbean Community Cultural Centre (CCCC)\, 1100 Fife Street\, Winnipeg\, Manitoba\, R2X 3A5\, Canada
ATTACH;FMTTYPE=image/png:https://ccom-manitoba.com/wp-content/uploads/2023/07/Screen-Shot-2023-07-10-at-6.05.22-PM.png
END:VEVENT
BEGIN:VEVENT
DTSTART;TZID=UTC:20230728T180000
DTEND;TZID=UTC:20230728T230000
DTSTAMP:20260421T192727
CREATED:20230629T002410Z
LAST-MODIFIED:20230711T004126Z
UID:1828-1690567200-1690585200@ccom-manitoba.com
SUMMARY:Caribbean Heritage Month Wrap Up and Family Social
DESCRIPTION:Join us for a Caribbean Style Dinner and Dance to mark the end of Inaugural Caribbean Heritage Month \nALL AGES INVITED\nFriday July 28\, 2023\nDinner @ 6:00 PM – $15 \nSample some popular foods \nPlease RSVP by Friday July 14th to admin@ccom-manitoba.com or text to 204.996.2091
URL:https://ccom-manitoba.com/event/caribbean-heritage-month-wrap-up-and-family-social/
LOCATION:Caribbean Community Cultural Centre (CCCC)\, 1100 Fife Street\, Winnipeg\, Manitoba\, R2X 3A5\, Canada
ATTACH;FMTTYPE=image/png:https://ccom-manitoba.com/wp-content/uploads/2023/06/Screen-Shot-2023-07-10-at-7.36.33-PM.png
ORGANIZER;CN="The Council of Caribbean Organizations of MB (CCOM)":MAILTO:admin@ccom-manitoba.com
END:VEVENT
BEGIN:VEVENT
DTSTART;TZID=UTC:20230725T183000
DTEND;TZID=UTC:20230725T183000
DTSTAMP:20260421T192727
CREATED:20230713T002257Z
LAST-MODIFIED:20230713T002257Z
UID:1994-1690309800-1690309800@ccom-manitoba.com
SUMMARY:Maples Lions Youth Cricket Program (Ages 8-14 years)
DESCRIPTION:The Maples Lions Youth cricket Program invites youth age 8-14 years to join the summer cricket.\nThis will be at Elwick Cricket Ground 30 Maberley Rd on every Tuesday from 6.30pm to 9pm. \nDuration of the summer cricket program is from July 4 to Tues Aug 29 \nRegistration fees is $35.00 \nFor further Information Contact: \nKamta Roy Singh\n204-227-4193\nkroysingh@shaw.ca \nGlenis Haynes\n204-880-8144\ng97haynes@yahoo .ca \nFelix Perera\n204-995-6441
URL:https://ccom-manitoba.com/event/maples-lions-youth-cricket-program-ages-8-14-years-4/
LOCATION:Manitoba
END:VEVENT
BEGIN:VEVENT
DTSTART;TZID=UTC:20230723T000000
DTEND;TZID=UTC:20230723T000000
DTSTAMP:20260421T192727
CREATED:20230629T002410Z
LAST-MODIFIED:20230629T004813Z
UID:1827-1690070400-1690070400@ccom-manitoba.com
SUMMARY:Barbados Family Picnic
DESCRIPTION:Barbados Family Picnic
URL:https://ccom-manitoba.com/event/barbados-family-picnic/
LOCATION:Kildonan Park\, 2015 Main Street\, Winnipeg\, Manitoba\, R2V 2B9
END:VEVENT
BEGIN:VEVENT
DTSTART;TZID=UTC:20230722T000000
DTEND;TZID=UTC:20230722T000000
DTSTAMP:20260421T192727
CREATED:20230629T002410Z
LAST-MODIFIED:20230629T004252Z
UID:1825-1689984000-1689984000@ccom-manitoba.com
SUMMARY:ACAM Family Day
DESCRIPTION:ACAM Family Day
URL:https://ccom-manitoba.com/event/acam-family-day/
LOCATION:Manitoba
ORGANIZER;CN="Afro-Caribbean Association Of Manitoba Inc.":MAILTO:afro_car@msn.com
END:VEVENT
BEGIN:VEVENT
DTSTART;TZID=UTC:20230722T000000
DTEND;TZID=UTC:20230722T000000
DTSTAMP:20260421T192727
CREATED:20230629T002410Z
LAST-MODIFIED:20230701T024241Z
UID:1826-1689984000-1689984000@ccom-manitoba.com
SUMMARY:Duck Curry Competition
DESCRIPTION:Duck Curry Competition \nStay tuned!
URL:https://ccom-manitoba.com/event/duck-curry-competition/
LOCATION:Manitoba
END:VEVENT
BEGIN:VEVENT
DTSTART;TZID=UTC:20230721T180000
DTEND;TZID=UTC:20230721T220000
DTSTAMP:20260421T192727
CREATED:20230629T002410Z
LAST-MODIFIED:20230706T031450Z
UID:1824-1689962400-1689976800@ccom-manitoba.com
SUMMARY:Domino Competition
DESCRIPTION:Domino Competition\nAttach is a poster of the Caribbean Heritage Domino competition and registration forms.\nContact me by 204-227-4193 \nAttachments: \n\nCaribbean Heritage Domino Tournament Registration\nCaribbean Heritage Domino Tournament
URL:https://ccom-manitoba.com/event/domino-competition/
LOCATION:Caribbean Community Cultural Centre (CCCC)\, 1100 Fife Street\, Winnipeg\, Manitoba\, R2X 3A5\, Canada
ATTACH;FMTTYPE=image/png:https://ccom-manitoba.com/wp-content/uploads/2023/06/Screen-Shot-2023-07-05-at-10.13.47-PM.png
ORGANIZER;CN="The Council of Caribbean Organizations of MB (CCOM)":MAILTO:admin@ccom-manitoba.com
END:VEVENT
BEGIN:VEVENT
DTSTART;TZID=UTC:20230720T180000
DTEND;TZID=UTC:20230720T200000
DTSTAMP:20260421T192727
CREATED:20230629T002410Z
LAST-MODIFIED:20230629T002410Z
UID:1823-1689876000-1689883200@ccom-manitoba.com
SUMMARY:Youth Cultural Heritage Workshop - Steel Pan
DESCRIPTION:Youth Cultural Heritage Workshop – Steel Pan. Ages 10 to 15 years old. To register call 204-298-9560
URL:https://ccom-manitoba.com/event/youth-cultural-heritage-workshop-steel-pan/
LOCATION:Caribbean Community Cultural Centre (CCCC)\, 1100 Fife Street\, Winnipeg\, Manitoba\, R2X 3A5\, Canada
ORGANIZER;CN="The Council of Caribbean Organizations of MB (CCOM)":MAILTO:admin@ccom-manitoba.com
END:VEVENT
BEGIN:VEVENT
DTSTART;TZID=UTC:20230719T180000
DTEND;TZID=UTC:20230719T200000
DTSTAMP:20260421T192727
CREATED:20230629T002410Z
LAST-MODIFIED:20230629T002410Z
UID:1822-1689789600-1689796800@ccom-manitoba.com
SUMMARY:Youth Cultural Heritage Workshop - Our Stories
DESCRIPTION:Youth Cultural Heritage Workshop – Our Stories. Ages 10 to 15 years old. To register call 204-298-9560
URL:https://ccom-manitoba.com/event/youth-cultural-heritage-workshop-our-stories/
LOCATION:Caribbean Community Cultural Centre (CCCC)\, 1100 Fife Street\, Winnipeg\, Manitoba\, R2X 3A5\, Canada
ORGANIZER;CN="The Council of Caribbean Organizations of MB (CCOM)":MAILTO:admin@ccom-manitoba.com
END:VEVENT
BEGIN:VEVENT
DTSTART;TZID=UTC:20230718T183000
DTEND;TZID=UTC:20230718T183000
DTSTAMP:20260421T192727
CREATED:20230713T002257Z
LAST-MODIFIED:20230713T002257Z
UID:1993-1689705000-1689705000@ccom-manitoba.com
SUMMARY:Maples Lions Youth Cricket Program (Ages 8-14 years)
DESCRIPTION:The Maples Lions Youth cricket Program invites youth age 8-14 years to join the summer cricket.\nThis will be at Elwick Cricket Ground 30 Maberley Rd on every Tuesday from 6.30pm to 9pm. \nDuration of the summer cricket program is from July 4 to Tues Aug 29 \nRegistration fees is $35.00 \nFor further Information Contact: \nKamta Roy Singh\n204-227-4193\nkroysingh@shaw.ca \nGlenis Haynes\n204-880-8144\ng97haynes@yahoo .ca \nFelix Perera\n204-995-6441
URL:https://ccom-manitoba.com/event/maples-lions-youth-cricket-program-ages-8-14-years-3/
LOCATION:Manitoba
END:VEVENT
BEGIN:VEVENT
DTSTART;TZID=UTC:20230718T180000
DTEND;TZID=UTC:20230718T200000
DTSTAMP:20260421T192727
CREATED:20230629T002409Z
LAST-MODIFIED:20230701T024329Z
UID:1821-1689703200-1689710400@ccom-manitoba.com
SUMMARY:Youth Cultural Heritage Workshop - Costume Making
DESCRIPTION:Youth Cultural Heritage Workshop – Costume Making. Ages 10 to 15 years old. To register call 204-298-9560
URL:https://ccom-manitoba.com/event/youth-cultural-heritage-workshop-custume-making/
LOCATION:Caribbean Community Cultural Centre (CCCC)\, 1100 Fife Street\, Winnipeg\, Manitoba\, R2X 3A5\, Canada
ORGANIZER;CN="The Council of Caribbean Organizations of MB (CCOM)":MAILTO:admin@ccom-manitoba.com
END:VEVENT
BEGIN:VEVENT
DTSTART;TZID=UTC:20230716T110000
DTEND;TZID=UTC:20230716T230000
DTSTAMP:20260421T192727
CREATED:20230629T002408Z
LAST-MODIFIED:20230629T003357Z
UID:1820-1689505200-1689548400@ccom-manitoba.com
SUMMARY:Jamaican Association Annual Picnic
DESCRIPTION:Jamaican Association Annual Picnic \nWhen:\nSun\, July 16\, 11am – 11pm \nDescription:\nSite Location to be announced at Birds Hill Park
URL:https://ccom-manitoba.com/event/jamaican-association-picnic/
LOCATION:Birds Hill Provincial Park
ORGANIZER;CN="Jamaican Association of Manitoba":MAILTO:info@jamaicanassociation.org
END:VEVENT
BEGIN:VEVENT
DTSTART;TZID=UTC:20230715T200000
DTEND;TZID=UTC:20230716T020000
DTSTAMP:20260421T192727
CREATED:20230629T002408Z
LAST-MODIFIED:20230629T002408Z
UID:1819-1689451200-1689472800@ccom-manitoba.com
SUMMARY:Old School Party 6 (Backspin & IOEMPU)
DESCRIPTION:Old School Party 6 (Backspin & IOEMPU)
URL:https://ccom-manitoba.com/event/old-school-party-6-backspin-ioempu/
LOCATION:Manitoba
END:VEVENT
BEGIN:VEVENT
DTSTART;TZID=UTC:20230714T180000
DTEND;TZID=UTC:20230714T190000
DTSTAMP:20260421T192727
CREATED:20230629T002408Z
LAST-MODIFIED:20230711T001849Z
UID:1818-1689357600-1689361200@ccom-manitoba.com
SUMMARY:Caribbean Heritage Month Acknowledgement Ceremony at the Legislature
DESCRIPTION:Caribbean Heritage Month Acknowledgement Ceremony at the Legislature\nThe government of Canada and the province of Manitoba acknowledge the significant\, long-standing contributions that the Caribbean-Canadians have made\, dating back to the eighteenth century\, to Canada’s social\, economic\, political and cultural fabric. \nJoin us for a reception at the Manitoba Legislature Building\, in the Rotunda\, to celebrate the acknowledgement of Caribbean Heritage Month. \nFriday July 14\, 2023 at 6:00 pm to 7:00 pm \nManitoba Legislature Building\n450 Broadway\nWinnipeg\, Manitoba\nR3C 0V8 \nRegistration required to attend\, please contact admin@ccom-manitoba.com to RSVP
URL:https://ccom-manitoba.com/event/caribbean-heritage-month-acknowledgement-ceremony-at-the-legislature/
LOCATION:Manitoba’s Legislative Building\, 450 Broadway\, Winnipeg\, Manitoba\, R3C 0V8
ATTACH;FMTTYPE=image/jpeg:https://ccom-manitoba.com/wp-content/uploads/2023/07/IMG_7775-2.jpg
ORGANIZER;CN="The Council of Caribbean Organizations of MB (CCOM)":MAILTO:admin@ccom-manitoba.com
END:VEVENT
BEGIN:VEVENT
DTSTART;TZID=UTC:20230711T183000
DTEND;TZID=UTC:20230711T183000
DTSTAMP:20260421T192727
CREATED:20230713T002257Z
LAST-MODIFIED:20230713T002257Z
UID:1992-1689100200-1689100200@ccom-manitoba.com
SUMMARY:Maples Lions Youth Cricket Program (Ages 8-14 years)
DESCRIPTION:The Maples Lions Youth cricket Program invites youth age 8-14 years to join the summer cricket.\nThis will be at Elwick Cricket Ground 30 Maberley Rd on every Tuesday from 6.30pm to 9pm. \nDuration of the summer cricket program is from July 4 to Tues Aug 29 \nRegistration fees is $35.00 \nFor further Information Contact: \nKamta Roy Singh\n204-227-4193\nkroysingh@shaw.ca \nGlenis Haynes\n204-880-8144\ng97haynes@yahoo .ca \nFelix Perera\n204-995-6441
URL:https://ccom-manitoba.com/event/maples-lions-youth-cricket-program-ages-8-14-years-2/
LOCATION:Manitoba
END:VEVENT
BEGIN:VEVENT
DTSTART;TZID=UTC:20230707T140000
DTEND;TZID=UTC:20230709T235900
DTSTAMP:20260421T192727
CREATED:20230701T033743Z
LAST-MODIFIED:20230701T033743Z
UID:1891-1688738400-1688947140@ccom-manitoba.com
SUMMARY:Soca Reggae Festival Winnipeg
DESCRIPTION:The Winnipeg Soca Reggae Music Festival is a celebration of Soca Reggae\, Calypso and revelry mixed together with Caribbean flavours.
URL:https://ccom-manitoba.com/event/soca-reggae-festival-winnipeg/
LOCATION:The Cube Stage\, 124 King St\, Winnipeg\, Manitoba\, R3B 1H9\, Canada
ATTACH;FMTTYPE=image/jpeg:https://ccom-manitoba.com/wp-content/uploads/2023/07/SOCA-REGGAE-FEST-July-2023.jpeg
ORGANIZER;CN="Soca Reggae Fest":MAILTO:socareggaefest@gmail.com
END:VEVENT
BEGIN:VEVENT
DTSTART;TZID=UTC:20230705T183000
DTEND;TZID=UTC:20230705T213000
DTSTAMP:20260421T192727
CREATED:20230629T002408Z
LAST-MODIFIED:20230629T002408Z
UID:1817-1688581800-1688592600@ccom-manitoba.com
SUMMARY:Caribbean Heart Health (With Blood Presure Checks)
DESCRIPTION:Caribbean Heart Health – Blood presure checks starts at 6:30PM
URL:https://ccom-manitoba.com/event/caribbean-heart-health-with-blood-presure-checks/
LOCATION:Caribbean Community Cultural Centre (CCCC)\, 1100 Fife Street\, Winnipeg\, Manitoba\, R2X 3A5\, Canada
ORGANIZER;CN="The Council of Caribbean Organizations of MB (CCOM)":MAILTO:admin@ccom-manitoba.com
END:VEVENT
BEGIN:VEVENT
DTSTART;TZID=UTC:20230704T183000
DTEND;TZID=UTC:20230704T210000
DTSTAMP:20260421T192727
CREATED:20230713T002257Z
LAST-MODIFIED:20230713T002257Z
UID:1991-1688495400-1688504400@ccom-manitoba.com
SUMMARY:Maples Lions Youth Cricket Program (Ages 8-14 years)
DESCRIPTION:The Maples Lions Youth cricket Program invites youth age 8-14 years to join the summer cricket.\nThis will be at Elwick Cricket Ground 30 Maberley Rd on every Tuesday from 6.30pm to 9pm. \nDuration of the summer cricket program is from July 4 to Tues Aug 29 \nRegistration fees is $35.00 \nFor further Information Contact: \nKamta Roy Singh\n204-227-4193\nkroysingh@shaw.ca \nGlenis Haynes\n204-880-8144\ng97haynes@yahoo .ca \nFelix Perera\n204-995-6441
URL:https://ccom-manitoba.com/event/maples-lions-youth-cricket-program-ages-8-14-years/
LOCATION:Manitoba
END:VEVENT
BEGIN:VEVENT
DTSTART;TZID=UTC:20230702T120000
DTEND;TZID=UTC:20230702T160000
DTSTAMP:20260421T192727
CREATED:20230629T002408Z
LAST-MODIFIED:20230629T002408Z
UID:1816-1688299200-1688313600@ccom-manitoba.com
SUMMARY:Caribbean Art Appreciation Event
DESCRIPTION:Caribbean Art Appreciation Event
URL:https://ccom-manitoba.com/event/caribbean-art-appreciation-event/
LOCATION:Caribbean Community Cultural Centre (CCCC)\, 1100 Fife Street\, Winnipeg\, Manitoba\, R2X 3A5\, Canada
ORGANIZER;CN="The Council of Caribbean Organizations of MB (CCOM)":MAILTO:admin@ccom-manitoba.com
END:VEVENT
BEGIN:VEVENT
DTSTART;TZID=UTC:20230701T100000
DTEND;TZID=UTC:20230701T120000
DTSTAMP:20260421T192727
CREATED:20230629T000129Z
LAST-MODIFIED:20230630T163853Z
UID:1813-1688205600-1688212800@ccom-manitoba.com
SUMMARY:Heritage Month Opening Ceremony & Breakfast
DESCRIPTION:Caribbean heritage month and opening ceremony breakfast
URL:https://ccom-manitoba.com/event/heritage-month-opening-ceremony-breakfast/
LOCATION:Caribbean Community Cultural Centre (CCCC)\, 1100 Fife Street\, Winnipeg\, Manitoba\, R2X 3A5\, Canada
ATTACH;FMTTYPE=image/png:https://ccom-manitoba.com/wp-content/uploads/2023/06/Poster-Template-1280px-by-1920px.png
ORGANIZER;CN="The Council of Caribbean Organizations of MB (CCOM)":MAILTO:admin@ccom-manitoba.com
END:VEVENT
BEGIN:VEVENT
DTSTART;TZID=UTC:20230624T200000
DTEND;TZID=UTC:20230625T010000
DTSTAMP:20260421T192727
CREATED:20230604T132202Z
LAST-MODIFIED:20230605T213359Z
UID:1776-1687636800-1687654800@ccom-manitoba.com
SUMMARY:Bring Ya Flag Social - Caribbean Pavilion Fundraiser
DESCRIPTION:Caribbean Council of Manitoba presents \nBRING YA FLAG SOCIAL \nJune 24\, 2023 @ 8PM – 1AM \nAdmission: $15 \nFeaturing DJ Cypha & DJ Keesh playing old school reggae\, soca and R&B \nLive DJ | Cash Bar | Food | 50/50 | More!
URL:https://ccom-manitoba.com/event/bring-ya-flag-social-caribbean-pavilion-fundraiser/
LOCATION:Caribbean Community Cultural Centre (CCCC)\, 1100 Fife Street\, Winnipeg\, Manitoba\, R2X 3A5\, Canada
ATTACH;FMTTYPE=image/jpeg:https://ccom-manitoba.com/wp-content/uploads/2023/06/Pavillion-Fundraiser.jpg
ORGANIZER;CN="The Council of Caribbean Organizations of MB (CCOM)":MAILTO:admin@ccom-manitoba.com
END:VEVENT
BEGIN:VEVENT
DTSTART;TZID=UTC:20230618T120000
DTEND;TZID=UTC:20230618T180000
DTSTAMP:20260421T192727
CREATED:20230421T012945Z
LAST-MODIFIED:20230421T013237Z
UID:1689-1687089600-1687111200@ccom-manitoba.com
SUMMARY:Caribbean Day
DESCRIPTION:Come out and join in the fun!
URL:https://ccom-manitoba.com/event/caribbean-day/
LOCATION:The Red River Exhibition\, 3977 Portage Avenue\, Winnipeg\, Manitoba\, R3K 2E8
ATTACH;FMTTYPE=image/jpeg:https://ccom-manitoba.com/wp-content/uploads/2023/04/Caribbean-Day-June-18-2023-Red-River-Ex.jpg
ORGANIZER;CN="The Council of Caribbean Organizations of MB (CCOM)":MAILTO:admin@ccom-manitoba.com
END:VEVENT
BEGIN:VEVENT
DTSTART;TZID=UTC:20230527T180000
DTEND;TZID=UTC:20230527T230000
DTSTAMP:20260421T192727
CREATED:20230404T010234Z
LAST-MODIFIED:20230404T012258Z
UID:1619-1685210400-1685228400@ccom-manitoba.com
SUMMARY:GCO - Independence Dinner and  Dance
DESCRIPTION:
URL:https://ccom-manitoba.com/event/gco-independence-dinner-and-dance/
LOCATION:Canad Inns (Polo Park)\, 1405 St Matthews Ave\, Winnipeg\, Manitoba\, R3G 0K5\, Canada
ORGANIZER;CN="Guyanese Cultural Organization":MAILTO:guyaneseculturalorg@gmail.com
END:VEVENT
BEGIN:VEVENT
DTSTART;TZID=UTC:20230511T180000
DTEND;TZID=UTC:20230511T200000
DTSTAMP:20260421T192727
CREATED:20230427T000034Z
LAST-MODIFIED:20230427T000219Z
UID:1713-1683828000-1683835200@ccom-manitoba.com
SUMMARY:Jewish History in the Caribbean (Virtual Event)
DESCRIPTION:Please take note of B’nai Brith’s May 11 7 PM EDT / 4:00 PM PDT call on Jewish History in the Caribbean. \nPlease feel free to share this information with your own list. \nThis call will tell stories from Jamaica\, Barbados\, Grenada\, St. Lucia\, Guyana and other Caribbean nations. \nA representative of the Shaare Shalom Synagogue will speak on the call as will members of Jewish and Caribbean communities in Canada and in the Caribbean. \nThe public may watch through the following link: \nhttps://www.bnaibrith.ca/eventssa/jewish-history-in-the-caribbean/
URL:https://ccom-manitoba.com/event/jewish-history-in-the-caribbean-virtual-event/
LOCATION:Manitoba
END:VEVENT
BEGIN:VEVENT
DTSTART;TZID=UTC:20230416T140000
DTEND;TZID=UTC:20230416T170000
DTSTAMP:20260421T192727
CREATED:20230404T010039Z
LAST-MODIFIED:20230404T012216Z
UID:1616-1681653600-1681664400@ccom-manitoba.com
SUMMARY:GCO - Annual Spring Tea & Bake Sale
DESCRIPTION:
URL:https://ccom-manitoba.com/event/gco-annual-spring-tea-bake-sale/
LOCATION:Caribbean Community Cultural Centre (CCCC)\, 1100 Fife Street\, Winnipeg\, Manitoba\, R2X 3A5\, Canada
ATTACH;FMTTYPE=image/jpeg:https://ccom-manitoba.com/wp-content/uploads/2023/04/GCO-Annual-Spring-Tea-Poster.jpeg
ORGANIZER;CN="Guyanese Cultural Organization":MAILTO:guyaneseculturalorg@gmail.com
END:VEVENT
BEGIN:VEVENT
DTSTART;TZID=UTC:20230412T183000
DTEND;TZID=UTC:20230412T200000
DTSTAMP:20260421T192727
CREATED:20230312T050155Z
LAST-MODIFIED:20230312T050155Z
UID:1590-1681324200-1681329600@ccom-manitoba.com
SUMMARY:Mental Health Promotion Toolkit for Black Canadians (Session 2)
DESCRIPTION:We would love to hear from you! We have co-designed a Black Mental Health\nPromotion Toolkit with partners in the community. We want your feedback to build on\navailable resources that will support service providers to be more culturally competent\nwhen engaging with individuals from diverse Black communities. Please join us in a\nco-production session on one of the following dates: \nSession Two:\nApril 12\, 2023\, Time: 6:30PM – 8:00 PM\nLocation: Zoom Meeting\nSpots Available: 20 \nRegister: https://mbwpg.cmha.ca/events/\nFor more information\, email: Tracy-Ann Campbell – tcampbell@cmhawpg.mb.ca
URL:https://ccom-manitoba.com/event/mental-health-promotion-toolkit-for-black-canadians-session-2/
LOCATION:Manitoba
ATTACH;FMTTYPE=image/png:https://ccom-manitoba.com/wp-content/uploads/2023/03/Canadian-Mental-Health-Association.png
END:VEVENT
BEGIN:VEVENT
DTSTART;TZID=UTC:20230314T110000
DTEND;TZID=UTC:20230314T130000
DTSTAMP:20260421T192727
CREATED:20230312T045819Z
LAST-MODIFIED:20230312T045819Z
UID:1582-1678791600-1678798800@ccom-manitoba.com
SUMMARY:Mental Health Promotion Toolkit for Black Canadians (Session 1)
DESCRIPTION:We would love to hear from you! We have co-designed a Black Mental Health\nPromotion Toolkit with partners in the community. We want your feedback to build on\navailable resources that will support service providers to be more culturally competent\nwhen engaging with individuals from diverse Black communities. Please join us in a\nco-production session on one of the following dates: \nSession One:\nMarch 14\, 2023\, Time:11:00AM-1:00PM\nLocation: 930 Portage Avenue in the Blue Berry Room\nLunch: served from K&S Island Grill\nSpots Available: 20 \nSession Two:\nApril 12\, 2023\, Time: 6:30PM – 8:00 PM\nLocation: Zoom\nSpots Available: 20 \nRegister: https://mbwpg.cmha.ca/events/\nFor more information\, email: Tracy-Ann Campbell – tcampbell@cmhawpg.mb.ca
URL:https://ccom-manitoba.com/event/mental-health-promotion-toolkit-for-black-canadians-session-1/
LOCATION:CMHA Manitoba and Winnipeg\, 930 Portage Avenue\, Winnipeg\, Manitoba\, R3G 0P8\, Canada
ATTACH;FMTTYPE=image/png:https://ccom-manitoba.com/wp-content/uploads/2023/03/Canadian-Mental-Health-Association.png
END:VEVENT
BEGIN:VEVENT
DTSTART;TZID=UTC:20260421T192727
DTEND;TZID=UTC:20260421T192727
DTSTAMP:20260421T192727
CREATED:20240607T012023Z
LAST-MODIFIED:20240607T012023Z
UID:2937-0-0@ccom-manitoba.com
SUMMARY:CHHA: Heart Health Event
DESCRIPTION:CHHA: Heart Health Event\nTBD
URL:https://ccom-manitoba.com/event/chha-heart-health-event/
LOCATION:Manitoba
END:VEVENT
END:VCALENDAR