BEGIN:VCALENDAR
VERSION:2.0
PRODID:-//CCOM Manitoba - ECPv6.15.20//NONSGML v1.0//EN
CALSCALE:GREGORIAN
METHOD:PUBLISH
X-WR-CALNAME:CCOM Manitoba
X-ORIGINAL-URL:https://ccom-manitoba.com
X-WR-CALDESC:Events for CCOM Manitoba
REFRESH-INTERVAL;VALUE=DURATION:PT1H
X-Robots-Tag:noindex
X-PUBLISHED-TTL:PT1H
BEGIN:VTIMEZONE
TZID:UTC
BEGIN:STANDARD
TZOFFSETFROM:+0000
TZOFFSETTO:+0000
TZNAME:UTC
DTSTART:19690101T000000
END:STANDARD
END:VTIMEZONE
BEGIN:VEVENT
DTSTART;TZID=UTC:20230705T183000
DTEND;TZID=UTC:20230705T213000
DTSTAMP:20260421T174241
CREATED:20230629T002408Z
LAST-MODIFIED:20230629T002408Z
UID:1817-1688581800-1688592600@ccom-manitoba.com
SUMMARY:Caribbean Heart Health (With Blood Presure Checks)
DESCRIPTION:Caribbean Heart Health – Blood presure checks starts at 6:30PM
URL:https://ccom-manitoba.com/event/caribbean-heart-health-with-blood-presure-checks/
LOCATION:Caribbean Community Cultural Centre (CCCC)\, 1100 Fife Street\, Winnipeg\, Manitoba\, R2X 3A5\, Canada
ORGANIZER;CN="The Council of Caribbean Organizations of MB (CCOM)":MAILTO:admin@ccom-manitoba.com
END:VEVENT
BEGIN:VEVENT
DTSTART;TZID=UTC:20230704T183000
DTEND;TZID=UTC:20230704T210000
DTSTAMP:20260421T174241
CREATED:20230713T002257Z
LAST-MODIFIED:20230713T002257Z
UID:1991-1688495400-1688504400@ccom-manitoba.com
SUMMARY:Maples Lions Youth Cricket Program (Ages 8-14 years)
DESCRIPTION:The Maples Lions Youth cricket Program invites youth age 8-14 years to join the summer cricket.\nThis will be at Elwick Cricket Ground 30 Maberley Rd on every Tuesday from 6.30pm to 9pm. \nDuration of the summer cricket program is from July 4 to Tues Aug 29 \nRegistration fees is $35.00 \nFor further Information Contact: \nKamta Roy Singh\n204-227-4193\nkroysingh@shaw.ca \nGlenis Haynes\n204-880-8144\ng97haynes@yahoo .ca \nFelix Perera\n204-995-6441
URL:https://ccom-manitoba.com/event/maples-lions-youth-cricket-program-ages-8-14-years/
LOCATION:Manitoba
END:VEVENT
BEGIN:VEVENT
DTSTART;TZID=UTC:20230702T120000
DTEND;TZID=UTC:20230702T160000
DTSTAMP:20260421T174241
CREATED:20230629T002408Z
LAST-MODIFIED:20230629T002408Z
UID:1816-1688299200-1688313600@ccom-manitoba.com
SUMMARY:Caribbean Art Appreciation Event
DESCRIPTION:Caribbean Art Appreciation Event
URL:https://ccom-manitoba.com/event/caribbean-art-appreciation-event/
LOCATION:Caribbean Community Cultural Centre (CCCC)\, 1100 Fife Street\, Winnipeg\, Manitoba\, R2X 3A5\, Canada
ORGANIZER;CN="The Council of Caribbean Organizations of MB (CCOM)":MAILTO:admin@ccom-manitoba.com
END:VEVENT
BEGIN:VEVENT
DTSTART;TZID=UTC:20230701T100000
DTEND;TZID=UTC:20230701T120000
DTSTAMP:20260421T174241
CREATED:20230629T000129Z
LAST-MODIFIED:20230630T163853Z
UID:1813-1688205600-1688212800@ccom-manitoba.com
SUMMARY:Heritage Month Opening Ceremony & Breakfast
DESCRIPTION:Caribbean heritage month and opening ceremony breakfast
URL:https://ccom-manitoba.com/event/heritage-month-opening-ceremony-breakfast/
LOCATION:Caribbean Community Cultural Centre (CCCC)\, 1100 Fife Street\, Winnipeg\, Manitoba\, R2X 3A5\, Canada
ATTACH;FMTTYPE=image/png:https://ccom-manitoba.com/wp-content/uploads/2023/06/Poster-Template-1280px-by-1920px.png
ORGANIZER;CN="The Council of Caribbean Organizations of MB (CCOM)":MAILTO:admin@ccom-manitoba.com
END:VEVENT
BEGIN:VEVENT
DTSTART;TZID=UTC:20230624T200000
DTEND;TZID=UTC:20230625T010000
DTSTAMP:20260421T174241
CREATED:20230604T132202Z
LAST-MODIFIED:20230605T213359Z
UID:1776-1687636800-1687654800@ccom-manitoba.com
SUMMARY:Bring Ya Flag Social - Caribbean Pavilion Fundraiser
DESCRIPTION:Caribbean Council of Manitoba presents \nBRING YA FLAG SOCIAL \nJune 24\, 2023 @ 8PM – 1AM \nAdmission: $15 \nFeaturing DJ Cypha & DJ Keesh playing old school reggae\, soca and R&B \nLive DJ | Cash Bar | Food | 50/50 | More!
URL:https://ccom-manitoba.com/event/bring-ya-flag-social-caribbean-pavilion-fundraiser/
LOCATION:Caribbean Community Cultural Centre (CCCC)\, 1100 Fife Street\, Winnipeg\, Manitoba\, R2X 3A5\, Canada
ATTACH;FMTTYPE=image/jpeg:https://ccom-manitoba.com/wp-content/uploads/2023/06/Pavillion-Fundraiser.jpg
ORGANIZER;CN="The Council of Caribbean Organizations of MB (CCOM)":MAILTO:admin@ccom-manitoba.com
END:VEVENT
BEGIN:VEVENT
DTSTART;TZID=UTC:20230618T120000
DTEND;TZID=UTC:20230618T180000
DTSTAMP:20260421T174241
CREATED:20230421T012945Z
LAST-MODIFIED:20230421T013237Z
UID:1689-1687089600-1687111200@ccom-manitoba.com
SUMMARY:Caribbean Day
DESCRIPTION:Come out and join in the fun!
URL:https://ccom-manitoba.com/event/caribbean-day/
LOCATION:The Red River Exhibition\, 3977 Portage Avenue\, Winnipeg\, Manitoba\, R3K 2E8
ATTACH;FMTTYPE=image/jpeg:https://ccom-manitoba.com/wp-content/uploads/2023/04/Caribbean-Day-June-18-2023-Red-River-Ex.jpg
ORGANIZER;CN="The Council of Caribbean Organizations of MB (CCOM)":MAILTO:admin@ccom-manitoba.com
END:VEVENT
BEGIN:VEVENT
DTSTART;TZID=UTC:20230527T180000
DTEND;TZID=UTC:20230527T230000
DTSTAMP:20260421T174241
CREATED:20230404T010234Z
LAST-MODIFIED:20230404T012258Z
UID:1619-1685210400-1685228400@ccom-manitoba.com
SUMMARY:GCO - Independence Dinner and  Dance
DESCRIPTION:
URL:https://ccom-manitoba.com/event/gco-independence-dinner-and-dance/
LOCATION:Canad Inns (Polo Park)\, 1405 St Matthews Ave\, Winnipeg\, Manitoba\, R3G 0K5\, Canada
ORGANIZER;CN="Guyanese Cultural Organization":MAILTO:guyaneseculturalorg@gmail.com
END:VEVENT
BEGIN:VEVENT
DTSTART;TZID=UTC:20230511T180000
DTEND;TZID=UTC:20230511T200000
DTSTAMP:20260421T174241
CREATED:20230427T000034Z
LAST-MODIFIED:20230427T000219Z
UID:1713-1683828000-1683835200@ccom-manitoba.com
SUMMARY:Jewish History in the Caribbean (Virtual Event)
DESCRIPTION:Please take note of B’nai Brith’s May 11 7 PM EDT / 4:00 PM PDT call on Jewish History in the Caribbean. \nPlease feel free to share this information with your own list. \nThis call will tell stories from Jamaica\, Barbados\, Grenada\, St. Lucia\, Guyana and other Caribbean nations. \nA representative of the Shaare Shalom Synagogue will speak on the call as will members of Jewish and Caribbean communities in Canada and in the Caribbean. \nThe public may watch through the following link: \nhttps://www.bnaibrith.ca/eventssa/jewish-history-in-the-caribbean/
URL:https://ccom-manitoba.com/event/jewish-history-in-the-caribbean-virtual-event/
LOCATION:Manitoba
END:VEVENT
BEGIN:VEVENT
DTSTART;TZID=UTC:20230416T140000
DTEND;TZID=UTC:20230416T170000
DTSTAMP:20260421T174241
CREATED:20230404T010039Z
LAST-MODIFIED:20230404T012216Z
UID:1616-1681653600-1681664400@ccom-manitoba.com
SUMMARY:GCO - Annual Spring Tea & Bake Sale
DESCRIPTION:
URL:https://ccom-manitoba.com/event/gco-annual-spring-tea-bake-sale/
LOCATION:Caribbean Community Cultural Centre (CCCC)\, 1100 Fife Street\, Winnipeg\, Manitoba\, R2X 3A5\, Canada
ATTACH;FMTTYPE=image/jpeg:https://ccom-manitoba.com/wp-content/uploads/2023/04/GCO-Annual-Spring-Tea-Poster.jpeg
ORGANIZER;CN="Guyanese Cultural Organization":MAILTO:guyaneseculturalorg@gmail.com
END:VEVENT
BEGIN:VEVENT
DTSTART;TZID=UTC:20230412T183000
DTEND;TZID=UTC:20230412T200000
DTSTAMP:20260421T174241
CREATED:20230312T050155Z
LAST-MODIFIED:20230312T050155Z
UID:1590-1681324200-1681329600@ccom-manitoba.com
SUMMARY:Mental Health Promotion Toolkit for Black Canadians (Session 2)
DESCRIPTION:We would love to hear from you! We have co-designed a Black Mental Health\nPromotion Toolkit with partners in the community. We want your feedback to build on\navailable resources that will support service providers to be more culturally competent\nwhen engaging with individuals from diverse Black communities. Please join us in a\nco-production session on one of the following dates: \nSession Two:\nApril 12\, 2023\, Time: 6:30PM – 8:00 PM\nLocation: Zoom Meeting\nSpots Available: 20 \nRegister: https://mbwpg.cmha.ca/events/\nFor more information\, email: Tracy-Ann Campbell – tcampbell@cmhawpg.mb.ca
URL:https://ccom-manitoba.com/event/mental-health-promotion-toolkit-for-black-canadians-session-2/
LOCATION:Manitoba
ATTACH;FMTTYPE=image/png:https://ccom-manitoba.com/wp-content/uploads/2023/03/Canadian-Mental-Health-Association.png
END:VEVENT
BEGIN:VEVENT
DTSTART;TZID=UTC:20230314T110000
DTEND;TZID=UTC:20230314T130000
DTSTAMP:20260421T174241
CREATED:20230312T045819Z
LAST-MODIFIED:20230312T045819Z
UID:1582-1678791600-1678798800@ccom-manitoba.com
SUMMARY:Mental Health Promotion Toolkit for Black Canadians (Session 1)
DESCRIPTION:We would love to hear from you! We have co-designed a Black Mental Health\nPromotion Toolkit with partners in the community. We want your feedback to build on\navailable resources that will support service providers to be more culturally competent\nwhen engaging with individuals from diverse Black communities. Please join us in a\nco-production session on one of the following dates: \nSession One:\nMarch 14\, 2023\, Time:11:00AM-1:00PM\nLocation: 930 Portage Avenue in the Blue Berry Room\nLunch: served from K&S Island Grill\nSpots Available: 20 \nSession Two:\nApril 12\, 2023\, Time: 6:30PM – 8:00 PM\nLocation: Zoom\nSpots Available: 20 \nRegister: https://mbwpg.cmha.ca/events/\nFor more information\, email: Tracy-Ann Campbell – tcampbell@cmhawpg.mb.ca
URL:https://ccom-manitoba.com/event/mental-health-promotion-toolkit-for-black-canadians-session-1/
LOCATION:CMHA Manitoba and Winnipeg\, 930 Portage Avenue\, Winnipeg\, Manitoba\, R3G 0P8\, Canada
ATTACH;FMTTYPE=image/png:https://ccom-manitoba.com/wp-content/uploads/2023/03/Canadian-Mental-Health-Association.png
END:VEVENT
BEGIN:VEVENT
DTSTART;TZID=UTC:20260421T174241
DTEND;TZID=UTC:20260421T174241
DTSTAMP:20260421T174241
CREATED:20240607T012023Z
LAST-MODIFIED:20240607T012023Z
UID:2937-0-0@ccom-manitoba.com
SUMMARY:CHHA: Heart Health Event
DESCRIPTION:CHHA: Heart Health Event\nTBD
URL:https://ccom-manitoba.com/event/chha-heart-health-event/
LOCATION:Manitoba
END:VEVENT
END:VCALENDAR