BEGIN:VCALENDAR
VERSION:2.0
PRODID:-//CCOM Manitoba - ECPv6.15.20//NONSGML v1.0//EN
CALSCALE:GREGORIAN
METHOD:PUBLISH
X-WR-CALNAME:CCOM Manitoba
X-ORIGINAL-URL:https://ccom-manitoba.com
X-WR-CALDESC:Events for CCOM Manitoba
REFRESH-INTERVAL;VALUE=DURATION:PT1H
X-Robots-Tag:noindex
X-PUBLISHED-TTL:PT1H
BEGIN:VTIMEZONE
TZID:UTC
BEGIN:STANDARD
TZOFFSETFROM:+0000
TZOFFSETTO:+0000
TZNAME:UTC
DTSTART:20230101T000000
END:STANDARD
END:VTIMEZONE
BEGIN:VEVENT
DTSTART;TZID=UTC:20240726T190000
DTEND;TZID=UTC:20240727T010000
DTSTAMP:20260421T011248
CREATED:20240607T012023Z
LAST-MODIFIED:20240728T163740Z
UID:2938-1722020400-1722042000@ccom-manitoba.com
SUMMARY:CCOM: Dominos Competition
DESCRIPTION:GCO: Dominios Competition\n7pm – 1am
URL:https://ccom-manitoba.com/event/ccom-dominios-competition/
LOCATION:Caribbean Community Cultural Centre (CCCC)\, 1100 Fife Street\, Winnipeg\, Manitoba\, R2X 3A5\, Canada
ORGANIZER;CN="The Council of Caribbean Organizations of MB (CCOM)":MAILTO:admin@ccom-manitoba.com
END:VEVENT
BEGIN:VEVENT
DTSTART;TZID=UTC:20240724T190000
DTEND;TZID=UTC:20240724T210000
DTSTAMP:20260421T011248
CREATED:20240609T214650Z
LAST-MODIFIED:20240718T235352Z
UID:2955-1721847600-1721854800@ccom-manitoba.com
SUMMARY:CHHA: Heart Health Symposium
DESCRIPTION:CHHA: Heart Health Symposium\n7pm – 9pm \nHeart health Event Poster
URL:https://ccom-manitoba.com/event/chha-heart-health-symposium/
LOCATION:Caribbean Community Cultural Centre (CCCC)\, 1100 Fife Street\, Winnipeg\, Manitoba\, R2X 3A5\, Canada
ATTACH;FMTTYPE=image/png:https://ccom-manitoba.com/wp-content/uploads/2024/06/Screen-Shot-2024-07-18-at-6.51.53-PM.png
END:VEVENT
BEGIN:VEVENT
DTSTART;TZID=UTC:20240723T180000
DTEND;TZID=UTC:20240723T180000
DTSTAMP:20260421T011248
CREATED:20240716T005413Z
LAST-MODIFIED:20240716T005413Z
UID:3014-1721757600-1721757600@ccom-manitoba.com
SUMMARY:Youth Cricket (Ages 8-14)
DESCRIPTION:Maples Community Centre invites youth 8-14 to join\, indoor cricket\, Learn and play. Registration Fee: Only 40.00 for the indoor and outdoor season. For all registraion fees please contact Maples community Center Karminder 204.953.1190 or email: office@maples.ca
URL:https://ccom-manitoba.com/event/youth-cricket-ages-8-14-26/
LOCATION:Leila North School\, 20 Allan Blye Drive\, Winnipeg\, Manitoba\, Canada
ORGANIZER;CN="Kamta Roy Singh":MAILTO:kroysingh@shaw.ca
END:VEVENT
BEGIN:VEVENT
DTSTART;TZID=UTC:20240721T140000
DTEND;TZID=UTC:20240721T180000
DTSTAMP:20260421T011248
CREATED:20240607T012023Z
LAST-MODIFIED:20240609T215312Z
UID:2936-1721570400-1721584800@ccom-manitoba.com
SUMMARY:RDHM: Dance Workshop
DESCRIPTION:RDHM: Dance Workshop\n2pm – 6pm
URL:https://ccom-manitoba.com/event/rdhm-dance-workshop/
LOCATION:Manitoba
END:VEVENT
BEGIN:VEVENT
DTSTART;TZID=UTC:20240720T120000
DTEND;TZID=UTC:20240720T180000
DTSTAMP:20260421T011248
CREATED:20240607T012023Z
LAST-MODIFIED:20240717T132923Z
UID:2935-1721476800-1721498400@ccom-manitoba.com
SUMMARY:CCOM: BBQ Party
DESCRIPTION:CCOM: Community BBQ Party and Craft Sale\n12pm – 6pm
URL:https://ccom-manitoba.com/event/ccom-bbq-party/
LOCATION:Caribbean Community Cultural Centre (CCCC)\, 1100 Fife Street\, Winnipeg\, Manitoba\, R2X 3A5\, Canada
ATTACH;FMTTYPE=image/png:https://ccom-manitoba.com/wp-content/uploads/2024/06/Screen-Shot-2024-07-17-at-8.28.14-AM.png
ORGANIZER;CN="The Council of Caribbean Organizations of MB (CCOM)":MAILTO:admin@ccom-manitoba.com
END:VEVENT
BEGIN:VEVENT
DTSTART;TZID=UTC:20240720T100000
DTEND;TZID=UTC:20240720T140000
DTSTAMP:20260421T011248
CREATED:20231105T140708Z
LAST-MODIFIED:20231118T203219Z
UID:2288-1721469600-1721484000@ccom-manitoba.com
SUMMARY:BAW - Bronx Park Farmer’s Market
DESCRIPTION:July 20th – Bronx Park Farmer’s Market
URL:https://ccom-manitoba.com/event/baw-bronx-park-farmers-market-3/
LOCATION:Bronx Park Community Center\, 720 Henderson Hwy\, Winnipeg\, Manitoba\, Canada
END:VEVENT
BEGIN:VEVENT
DTSTART;TZID=UTC:20240719T180000
DTEND;TZID=UTC:20240719T210000
DTSTAMP:20260421T011248
CREATED:20240607T012022Z
LAST-MODIFIED:20240717T134903Z
UID:2934-1721412000-1721422800@ccom-manitoba.com
SUMMARY:RDHM and 55+:Back-In-Time Party
DESCRIPTION:RDHM and 55+:Back-In-Time Party\n6pm – 9pm
URL:https://ccom-manitoba.com/event/rdhm-and-55back-in-time-party/
LOCATION:Caribbean Community Cultural Centre (CCCC)\, 1100 Fife Street\, Winnipeg\, Manitoba\, R2X 3A5\, Canada
ATTACH;FMTTYPE=image/png:https://ccom-manitoba.com/wp-content/uploads/2024/06/Screen-Shot-2024-07-17-at-8.47.15-AM.png
END:VEVENT
BEGIN:VEVENT
DTSTART;TZID=UTC:20240717T170000
DTEND;TZID=UTC:20240717T210000
DTSTAMP:20260421T011248
CREATED:20240607T012022Z
LAST-MODIFIED:20240607T012022Z
UID:2932-1721235600-1721250000@ccom-manitoba.com
SUMMARY:CCOM: Costumes & Dance Workshop
DESCRIPTION:CCOM: Costumes & Dance Workshop\n10am – 2pm
URL:https://ccom-manitoba.com/event/ccom-costumes-dance-workshop-2/
LOCATION:Manitoba
ORGANIZER;CN="The Council of Caribbean Organizations of MB (CCOM)":MAILTO:admin@ccom-manitoba.com
END:VEVENT
BEGIN:VEVENT
DTSTART;TZID=UTC:20240716T180000
DTEND;TZID=UTC:20240716T180000
DTSTAMP:20260421T011248
CREATED:20240716T005413Z
LAST-MODIFIED:20240716T005413Z
UID:3013-1721152800-1721152800@ccom-manitoba.com
SUMMARY:Youth Cricket (Ages 8-14)
DESCRIPTION:Maples Community Centre invites youth 8-14 to join\, indoor cricket\, Learn and play. Registration Fee: Only 40.00 for the indoor and outdoor season. For all registraion fees please contact Maples community Center Karminder 204.953.1190 or email: office@maples.ca
URL:https://ccom-manitoba.com/event/youth-cricket-ages-8-14-25/
LOCATION:Leila North School\, 20 Allan Blye Drive\, Winnipeg\, Manitoba\, Canada
ORGANIZER;CN="Kamta Roy Singh":MAILTO:kroysingh@shaw.ca
END:VEVENT
BEGIN:VEVENT
DTSTART;TZID=UTC:20240715T170000
DTEND;TZID=UTC:20240715T210000
DTSTAMP:20260421T011248
CREATED:20240607T012022Z
LAST-MODIFIED:20240629T145252Z
UID:2931-1721062800-1721077200@ccom-manitoba.com
SUMMARY:CCOM: Costumes & Dance Workshop
DESCRIPTION:CCOM: Costumes & Dance Workshop\n5pm – 9pm
URL:https://ccom-manitoba.com/event/ccom-costumes-dance-workshop/
LOCATION:Manitoba
ORGANIZER;CN="The Council of Caribbean Organizations of MB (CCOM)":MAILTO:admin@ccom-manitoba.com
END:VEVENT
BEGIN:VEVENT
DTSTART;TZID=UTC:20240714T140000
DTEND;TZID=UTC:20240714T160000
DTSTAMP:20260421T011248
CREATED:20240607T012022Z
LAST-MODIFIED:20240703T134240Z
UID:2930-1720965600-1720972800@ccom-manitoba.com
SUMMARY:CCOM: Art Appreciation Day
DESCRIPTION:CCOM: Art Appreciation Day\n2pm – 4pm
URL:https://ccom-manitoba.com/event/ccom-art-appreciation-day/
LOCATION:Caribbean Community Cultural Centre (CCCC)\, 1100 Fife Street\, Winnipeg\, Manitoba\, R2X 3A5\, Canada
ORGANIZER;CN="The Council of Caribbean Organizations of MB (CCOM)":MAILTO:admin@ccom-manitoba.com
END:VEVENT
BEGIN:VEVENT
DTSTART;TZID=UTC:20240713T140000
DTEND;TZID=UTC:20240713T180000
DTSTAMP:20260421T011248
CREATED:20240603T224643Z
LAST-MODIFIED:20240603T225104Z
UID:2910-1720879200-1720893600@ccom-manitoba.com
SUMMARY:LET’S CELEBRATE GRENADA - THE ISLE OF SPICE - 50TH
DESCRIPTION:L E T ’S C E L EB R A T E G R E N A D A – THE ISLE OF SPICE – 50TH \nSaturday\, July 13\, 2 0 2 4 \n2 : 0 0 pm – 6 : 0 0 pm \nCCOM Hall @ 1100 Fife Street\, Winnipeg\, MB \nStreet \nEnjoy Entertainment \,\nDisplay Table\, Kids\, Activities\, Tasty Treats\, Bake Table\, and More! \nAdmission by Donation \nPlease RSVP to gladhop@gmail.com preferably by July 1st! \nEvent Poster: Grenada_50_v2_May 2024
URL:https://ccom-manitoba.com/event/lets-celebrate-grenada-the-isle-of-spice/
LOCATION:Caribbean Community Cultural Centre (CCCC)\, 1100 Fife Street\, Winnipeg\, Manitoba\, R2X 3A5\, Canada
ATTACH;FMTTYPE=image/png:https://ccom-manitoba.com/wp-content/uploads/2024/06/Screen-Shot-2024-06-03-at-5.48.41-PM-e1717454966772.png
END:VEVENT
BEGIN:VEVENT
DTSTART;TZID=UTC:20240713T100000
DTEND;TZID=UTC:20240713T140000
DTSTAMP:20260421T011248
CREATED:20231105T140708Z
LAST-MODIFIED:20231118T203157Z
UID:2287-1720864800-1720879200@ccom-manitoba.com
SUMMARY:BAW - Bronx Park Farmer’s Market
DESCRIPTION:July – 13th – Bronx Park Farmer’s Market
URL:https://ccom-manitoba.com/event/baw-bronx-park-farmers-market-2/
LOCATION:Bronx Park Community Center\, 720 Henderson Hwy\, Winnipeg\, Manitoba\, Canada
END:VEVENT
BEGIN:VEVENT
DTSTART;TZID=UTC:20240712T180000
DTEND;TZID=UTC:20240712T200000
DTSTAMP:20260421T011248
CREATED:20240607T012020Z
LAST-MODIFIED:20240609T213815Z
UID:2928-1720807200-1720814400@ccom-manitoba.com
SUMMARY:CCOM: Caribbean Heritage Month Acknowledgment Ceremony
DESCRIPTION:CCOM: Caribbean Heritage Month Acknowledgment Ceremony\n6pm – 8pm
URL:https://ccom-manitoba.com/event/ccom-caribbean-heritage-month-acknowledgment-ceremony/
LOCATION:Manitoba
ORGANIZER;CN="The Council of Caribbean Organizations of MB (CCOM)":MAILTO:admin@ccom-manitoba.com
END:VEVENT
BEGIN:VEVENT
DTSTART;TZID=UTC:20240710T190000
DTEND;TZID=UTC:20240710T210000
DTSTAMP:20260421T011248
CREATED:20240607T012022Z
LAST-MODIFIED:20240706T175959Z
UID:2933-1720638000-1720645200@ccom-manitoba.com
SUMMARY:CCOM: Steelband Workshop
DESCRIPTION:CCOM: Steelband Workshop\n7pm – 9pm
URL:https://ccom-manitoba.com/event/ccom-steelband-workshop/
LOCATION:Caribbean Community Cultural Centre (CCCC)\, 1100 Fife Street\, Winnipeg\, Manitoba\, R2X 3A5\, Canada
ORGANIZER;CN="The Council of Caribbean Organizations of MB (CCOM)":MAILTO:admin@ccom-manitoba.com
END:VEVENT
BEGIN:VEVENT
DTSTART;TZID=UTC:20240709T180000
DTEND;TZID=UTC:20240709T210000
DTSTAMP:20260421T011248
CREATED:20240716T005040Z
LAST-MODIFIED:20240716T005413Z
UID:3009-1720548000-1720558800@ccom-manitoba.com
SUMMARY:Youth Cricket (Ages 8-14)
DESCRIPTION:Maples Community Centre invites youth 8-14 to join\, indoor cricket\, Learn and play. Registration Fee: Only 40.00 for the indoor and outdoor season. For all registraion fees please contact Maples community Center Karminder 204.953.1190 or email: office@maples.ca
URL:https://ccom-manitoba.com/event/youth-cricket-ages-8-14-24/
LOCATION:Leila North School\, 20 Allan Blye Drive\, Winnipeg\, Manitoba\, Canada
ORGANIZER;CN="Kamta Roy Singh":MAILTO:kroysingh@shaw.ca
END:VEVENT
BEGIN:VEVENT
DTSTART;TZID=UTC:20240706T200000
DTEND;TZID=UTC:20240707T010000
DTSTAMP:20260421T011248
CREATED:20240603T225733Z
LAST-MODIFIED:20240625T010236Z
UID:2918-1720296000-1720314000@ccom-manitoba.com
SUMMARY:Caribbean Pavilion Fundraiser - Bring Ya Flag Social
DESCRIPTION:Caribbean Council of Manitoba Presents… \nCaribbean Pavilion Fundraiser – Bring Ya Flag Social\nJuly 06\, 2024 8PM – 1AM \nSpecial guest Dj Cypha and Dj Keesh \nOld School Reggae\, Soca and RnB \nLive DJ\, Cash Bar\, Food\, 50/50 and More! \nAdmission: $15.00 \n1100 Fife Street\, Winnipeg\, MB \n  \nTickets can be purchased online by e-transfer at caribbeanpavillion_rd@outlook.com
URL:https://ccom-manitoba.com/event/caribbean-pavilion-fundraiser-bring-ya-flag-social/
LOCATION:Caribbean Community Cultural Centre (CCCC)\, 1100 Fife Street\, Winnipeg\, Manitoba\, R2X 3A5\, Canada
ATTACH;FMTTYPE=image/jpeg:https://ccom-manitoba.com/wp-content/uploads/2024/06/Bring-Ya-Flag-Fundraiser-2.jpg
ORGANIZER;CN="The Council of Caribbean Organizations of MB (CCOM)":MAILTO:admin@ccom-manitoba.com
END:VEVENT
BEGIN:VEVENT
DTSTART;TZID=UTC:20240706T200000
DTEND;TZID=UTC:20240706T230000
DTSTAMP:20260421T011248
CREATED:20240206T015121Z
LAST-MODIFIED:20240206T015121Z
UID:2447-1720296000-1720306800@ccom-manitoba.com
SUMMARY:Oldies Night
DESCRIPTION:Oldies Night \nWinnipeg Calendar of Events 2024\nSaturday\,\nJuly 6\, 2024\n@8pm
URL:https://ccom-manitoba.com/event/oldies-night/
LOCATION:Caribbean Community Cultural Centre (CCCC)\, 1100 Fife Street\, Winnipeg\, Manitoba\, R2X 3A5\, Canada
ORGANIZER;CN="Guyanese Cultural Organization":MAILTO:guyaneseculturalorg@gmail.com
END:VEVENT
BEGIN:VEVENT
DTSTART;TZID=UTC:20240706T100000
DTEND;TZID=UTC:20240706T140000
DTSTAMP:20260421T011248
CREATED:20231105T140708Z
LAST-MODIFIED:20231118T203130Z
UID:2286-1720260000-1720274400@ccom-manitoba.com
SUMMARY:BAW - Bronx Park Farmer’s Market
DESCRIPTION:July 6th – Bronx Park Farmer’s Market
URL:https://ccom-manitoba.com/event/baw-bronx-park-farmers-market/
LOCATION:Bronx Park Community Center\, 720 Henderson Hwy\, Winnipeg\, Manitoba\, Canada
END:VEVENT
BEGIN:VEVENT
DTSTART;TZID=UTC:20240705T180000
DTEND;TZID=UTC:20240705T220000
DTSTAMP:20260421T011248
CREATED:20240607T012020Z
LAST-MODIFIED:20240629T145014Z
UID:2927-1720202400-1720216800@ccom-manitoba.com
SUMMARY:CCOM: Friday Night Dinner
DESCRIPTION:CCOM: Friday Night Dinner\n6pm – 10pm \nTickets are $15 available at the door
URL:https://ccom-manitoba.com/event/ccom-friday-night-dinner/
LOCATION:Manitoba
ATTACH;FMTTYPE=image/jpeg:https://ccom-manitoba.com/wp-content/uploads/2024/06/6d99c05d-d7e1-45e8-ba89-8053c33324e8.jpg
ORGANIZER;CN="The Council of Caribbean Organizations of MB (CCOM)":MAILTO:admin@ccom-manitoba.com
END:VEVENT
BEGIN:VEVENT
DTSTART;TZID=UTC:20240704T120000
DTEND;TZID=UTC:20240704T150000
DTSTAMP:20260421T011248
CREATED:20240607T012019Z
LAST-MODIFIED:20240609T213738Z
UID:2926-1720094400-1720105200@ccom-manitoba.com
SUMMARY:CCOM and 55+: Seniors Luncheon
DESCRIPTION:CCOM and 55+: Seniors Luncheon\n12pm – 3pm
URL:https://ccom-manitoba.com/event/ccom-and-55-seniors-luncheon/
LOCATION:Manitoba
END:VEVENT
BEGIN:VEVENT
DTSTART;TZID=UTC:20240701T100000
DTEND;TZID=UTC:20240701T130000
DTSTAMP:20260421T011248
CREATED:20240607T012019Z
LAST-MODIFIED:20240629T144615Z
UID:2925-1719828000-1719838800@ccom-manitoba.com
SUMMARY:CCOM: Breakfast
DESCRIPTION:CCOM Breakfast\n10am – 1pm
URL:https://ccom-manitoba.com/event/ccom-breakfast/
LOCATION:Manitoba
ATTACH;FMTTYPE=image/jpeg:https://ccom-manitoba.com/wp-content/uploads/2024/06/16182618-a23d-4942-92e3-4f8e41675bfa.jpg
ORGANIZER;CN="The Council of Caribbean Organizations of MB (CCOM)":MAILTO:admin@ccom-manitoba.com
END:VEVENT
BEGIN:VEVENT
DTSTART;TZID=UTC:20240616T120000
DTEND;TZID=UTC:20240616T180000
DTSTAMP:20260421T011248
CREATED:20240514T022144Z
LAST-MODIFIED:20240609T221248Z
UID:2900-1718539200-1718560800@ccom-manitoba.com
SUMMARY:Caribbean Day
DESCRIPTION:Get ready to immerse yourself in the vibrant colors\, rhythmic beats\, and mouth-watering flavors of Caribbean culture celebrations! From the energetic parade to the delicious food offerings\, there’s something for everyone to enjoy. \nWhat you can expect at the Caribbean Day \n\nDiversity Parade\nCaribbean Music\nFamily Activities\nFREE ADMISSION (noon – 1pm\, with a donation)\n\nAre you a Caribbean performer?\nApply to perform! Submit your work at info@redriverex.com\n\n\nCanada Day
URL:https://ccom-manitoba.com/event/caribbean-day-2/
LOCATION:The Red River Exhibition\, 3977 Portage Avenue\, Winnipeg\, Manitoba\, R3K 2E8
ATTACH;FMTTYPE=image/png:https://ccom-manitoba.com/wp-content/uploads/2024/05/FantaSEApost.png
END:VEVENT
BEGIN:VEVENT
DTSTART;TZID=UTC:20240602T143000
DTEND;TZID=UTC:20240602T163000
DTSTAMP:20260421T011248
CREATED:20231105T140708Z
LAST-MODIFIED:20231118T202926Z
UID:2284-1717338600-1717345800@ccom-manitoba.com
SUMMARY:BAW - General meeting
DESCRIPTION:June 2nd – General meeting
URL:https://ccom-manitoba.com/event/baw-general-meeting-4/
LOCATION:Bronx Park Community Center\, 720 Henderson Hwy\, Winnipeg\, Manitoba\, Canada
END:VEVENT
BEGIN:VEVENT
DTSTART;TZID=UTC:20240525T180000
DTEND;TZID=UTC:20240525T210000
DTSTAMP:20260421T011248
CREATED:20240206T015121Z
LAST-MODIFIED:20240206T015121Z
UID:2446-1716660000-1716670800@ccom-manitoba.com
SUMMARY:Independence Dinner and Dance
DESCRIPTION:Independence Dinner and Dance \nWinnipeg Calendar of Events 2024\nSaturday\,\nMay 25\, 2024\n6pm-Cocktails\n7pm -Dinner
URL:https://ccom-manitoba.com/event/independence-dinner-and-dance/
LOCATION:Canad Inns (Polo Park)\, 1405 St Matthews Ave\, Winnipeg\, Manitoba\, R3G 0K5\, Canada
ORGANIZER;CN="Guyanese Cultural Organization":MAILTO:guyaneseculturalorg@gmail.com
END:VEVENT
BEGIN:VEVENT
DTSTART;TZID=UTC:20240518T170000
DTEND;TZID=UTC:20240518T235900
DTSTAMP:20260421T011248
CREATED:20240514T022803Z
LAST-MODIFIED:20240514T112354Z
UID:2902-1716051600-1716076740@ccom-manitoba.com
SUMMARY:Ah We Kind Ah Food!
DESCRIPTION:Food and Bake Table \nMusic by Popular DJ \nCost: $30 \nKids under 13 years: $15
URL:https://ccom-manitoba.com/event/ah-we-kind-ah-food/
LOCATION:Caribbean Community Cultural Centre (CCCC)\, 1100 Fife Street\, Winnipeg\, Manitoba\, R2X 3A5\, Canada
ATTACH;FMTTYPE=image/jpeg:https://ccom-manitoba.com/wp-content/uploads/2024/05/IMG_1005.jpeg
END:VEVENT
BEGIN:VEVENT
DTSTART;TZID=UTC:20240516T130000
DTEND;TZID=UTC:20240516T160000
DTSTAMP:20260421T011248
CREATED:20240205T234220Z
LAST-MODIFIED:20240205T235835Z
UID:2403-1715864400-1715875200@ccom-manitoba.com
SUMMARY:Spring Luncheon: Fundraising Event
DESCRIPTION:Entertainment\, Bake table\, Silent auction.\nThe Caribbean 55 plus Horizon Club of Manitoba\, Inc.\n5-1100 Fife St. WPG MB R2X 3A5\nCalendar of Events\, 2024 \nEach month’s activity starts at 1PM on the third Thursday of the month. All persons 55+ are\nencouraged to attend our events and/or to become members. For info: Call Joy: (204) 275\n2954\, or email: jpbissoon@gmail.com Or Shirley: shirle@mymts.net or (204)339 0453
URL:https://ccom-manitoba.com/event/spring-luncheon-fundraising-event/
LOCATION:Caribbean Community Cultural Centre (CCCC)\, 1100 Fife Street\, Winnipeg\, Manitoba\, R2X 3A5\, Canada
CATEGORIES:FALSE
END:VEVENT
BEGIN:VEVENT
DTSTART;TZID=UTC:20240505T143000
DTEND;TZID=UTC:20240505T163000
DTSTAMP:20260421T011248
CREATED:20231105T140706Z
LAST-MODIFIED:20231118T202909Z
UID:2283-1714919400-1714926600@ccom-manitoba.com
SUMMARY:BAW - General meeting
DESCRIPTION:May 5th – General meeting
URL:https://ccom-manitoba.com/event/baw-general-meeting-3/
LOCATION:Bronx Park Community Center\, 720 Henderson Hwy\, Winnipeg\, Manitoba\, Canada
END:VEVENT
BEGIN:VEVENT
DTSTART;TZID=UTC:20240420T093000
DTEND;TZID=UTC:20240420T123000
DTSTAMP:20260421T011248
CREATED:20231118T201645Z
LAST-MODIFIED:20231118T201645Z
UID:2328-1713605400-1713616200@ccom-manitoba.com
SUMMARY:Youth Cricket (Ages 8-14)
DESCRIPTION:Maples Community Centre invites youth 8-14 to join\, Winter indoor cricket\, Learn and play. Registration Fee: Only 40.00 for the indoor and outdoor season. For all registraion fees please contact Maples community Center Karminder 204.953.1190 or email: office@maples.ca
URL:https://ccom-manitoba.com/event/youth-cricket-ages-8-14-23/
LOCATION:Leila North School\, 20 Allan Blye Drive\, Winnipeg\, Manitoba\, Canada
ORGANIZER;CN="Kamta Roy Singh":MAILTO:kroysingh@shaw.ca
END:VEVENT
BEGIN:VEVENT
DTSTART;TZID=UTC:20240418T130000
DTEND;TZID=UTC:20240418T160000
DTSTAMP:20260421T011248
CREATED:20240205T234220Z
LAST-MODIFIED:20240205T235835Z
UID:2402-1713445200-1713456000@ccom-manitoba.com
SUMMARY:Meeting our Indigenous Neighbours
DESCRIPTION:As “Newcomers”\, we have much to learn from the first inhabitants of our adopted home\, Canada. This will be a time of sharing: our cultural values and our customs\, followed by a hot meal. Registration is required by April 11 or before\, so we can provide for everyone. See above for contact info.\nThe Caribbean 55 plus Horizon Club of Manitoba\, Inc.\n5-1100 Fife St. WPG MB R2X 3A5\nCalendar of Events\, 2024 \nEach month’s activity starts at 1PM on the third Thursday of the month. All persons 55+ are\nencouraged to attend our events and/or to become members. For info: Call Joy: (204) 275\n2954\, or email: jpbissoon@gmail.com Or Shirley: shirle@mymts.net or (204)339 0453
URL:https://ccom-manitoba.com/event/meeting-our-indigenous-neighbours/
LOCATION:Caribbean Community Cultural Centre (CCCC)\, 1100 Fife Street\, Winnipeg\, Manitoba\, R2X 3A5\, Canada
CATEGORIES:FALSE
END:VEVENT
END:VCALENDAR