BEGIN:VCALENDAR
VERSION:2.0
PRODID:-//CCOM Manitoba - ECPv6.15.20//NONSGML v1.0//EN
CALSCALE:GREGORIAN
METHOD:PUBLISH
X-WR-CALNAME:CCOM Manitoba
X-ORIGINAL-URL:https://ccom-manitoba.com
X-WR-CALDESC:Events for CCOM Manitoba
REFRESH-INTERVAL;VALUE=DURATION:PT1H
X-Robots-Tag:noindex
X-PUBLISHED-TTL:PT1H
BEGIN:VTIMEZONE
TZID:UTC
BEGIN:STANDARD
TZOFFSETFROM:+0000
TZOFFSETTO:+0000
TZNAME:UTC
DTSTART:20220101T000000
END:STANDARD
END:VTIMEZONE
BEGIN:VEVENT
DTSTART;TZID=UTC:20240216T170000
DTEND;TZID=UTC:20240216T213000
DTSTAMP:20260421T054417
CREATED:20240207T035705Z
LAST-MODIFIED:20240212T145743Z
UID:2477-1708102800-1708119000@ccom-manitoba.com
SUMMARY:Third Annual Black History Month @ Fort Richmond Collegiate – February 16\, 2024 – 5PM
DESCRIPTION:DATE/TIME\n\nFebruary 16\, 2024\n5:00PM to 9:30PM\n\nLOCATION\nFort Richmond Collegiate- 99 Killarney Ave\, Winnipeg\, MB R3T 3B3 \n\n\n\n\n\n\nABOUT THIS EVENT\nTheme: “Collective Action\, Collective Vision\, Collective Change: Supporting One Another as the Black Winnipeg Collective” \nThe Afro Caribbean Mentorship Program (ACMP) and the University of Manitoba Black Alliance (UMBA) will host its third annual\, one-day (in-person & online) Black History Month (BHM) event. The evening’s festivities will celebrate Afro-Caribbean Black Canadian communities’ by paying homage to our history and celebrating Afro-Caribbean Black (ACB) people’s great accomplishments in our present times. The evening’s social gathering will encourage audience members to dance\, sing and contribute to a thought-provoking panel discussion on the Black experiences in Winnipeg\, empowering our ACB community members\, and supporting local Black Businesses and Initiatives. \nTo ensure we are making our Black History Month event a time to remember\, we will focus on working in solidarity with Black businesses to remind our Winnipeg community to support Black-owned businesses and appreciate the hard work of ACB entrepreneurs. In doing so\, this event will invite Black-owned to collaborate to establish a pop-up shop pre-event and intermission. This is our way to ensure our attendees recognize amazing Black-owned Winnipeg businesses while encouraging them to support these business establishments. We must be vigilant to realize that Black-owned businesses are disproportionately affected by the pandemic and anti-Black racism\, which other ethnic groups do not encounter. \n\n\n\n\n\n\n\nPROGRAM DETAILS\n5:00 pm – 6:00 pm: Black business showcase \n6:15 pm – 7:15 pm: Dinner – Catering by D&M Caribbean Flava \n7:30 pm – 9:30 pm: Main Event \n\n\n\n\n\n\nClick Here to Register
URL:https://ccom-manitoba.com/event/third-annual-black-history-month-fort-richmond-collegiate-february-16-2024-5pm/
ATTACH;FMTTYPE=image/webp:https://ccom-manitoba.com/wp-content/uploads/2024/02/Updated-1.webp
END:VEVENT
BEGIN:VEVENT
DTSTART;TZID=UTC:20240215T130000
DTEND;TZID=UTC:20240215T160000
DTSTAMP:20260421T054417
CREATED:20240205T234220Z
LAST-MODIFIED:20240205T235834Z
UID:2400-1708002000-1708012800@ccom-manitoba.com
SUMMARY:Internet and Phone Security: Avoiding Fraud for Seniors
DESCRIPTION:A financial expert with first-hand information and expertise in this area will be our guest presenter. Please spread the word among your friends and neighbours. Internet and telephone scams are a frequent problem for every-one\, especially for seniors.\nThe Caribbean 55 plus Horizon Club of Manitoba\, Inc.\n5-1100 Fife St. WPG MB R2X 3A5\nCalendar of Events\, 2024 \nEach month’s activity starts at 1PM on the third Thursday of the month. All persons 55+ are\nencouraged to attend our events and/or to become members. For info: Call Joy: (204) 275\n2954\, or email: jpbissoon@gmail.com Or Shirley: shirle@mymts.net or (204)339 0453
URL:https://ccom-manitoba.com/event/internet-and-phone-security-avoiding-fraud-for-seniors/
LOCATION:Caribbean Community Cultural Centre (CCCC)\, 1100 Fife Street\, Winnipeg\, Manitoba\, R2X 3A5\, Canada
CATEGORIES:FALSE
END:VEVENT
BEGIN:VEVENT
DTSTART;TZID=UTC:20240210T093000
DTEND;TZID=UTC:20240210T123000
DTSTAMP:20260421T054417
CREATED:20231118T201602Z
LAST-MODIFIED:20231118T201602Z
UID:2318-1707557400-1707568200@ccom-manitoba.com
SUMMARY:Youth Cricket (Ages 8-14)
DESCRIPTION:Maples Community Centre invites youth 8-14 to join\, Winter indoor cricket\, Learn and play. Registration Fee: Only 40.00 for the indoor and outdoor season. For all registraion fees please contact Maples community Center Karminder 204.953.1190 or email: office@maples.ca
URL:https://ccom-manitoba.com/event/youth-cricket-ages-8-14-13/
LOCATION:Leila North School\, 20 Allan Blye Drive\, Winnipeg\, Manitoba\, Canada
ORGANIZER;CN="Kamta Roy Singh":MAILTO:kroysingh@shaw.ca
END:VEVENT
BEGIN:VEVENT
DTSTART;TZID=UTC:20240204T143000
DTEND;TZID=UTC:20240204T163000
DTSTAMP:20260421T054417
CREATED:20231105T140706Z
LAST-MODIFIED:20231118T202823Z
UID:2280-1707057000-1707064200@ccom-manitoba.com
SUMMARY:BAW - General meeting
DESCRIPTION:February 4th – General meeting
URL:https://ccom-manitoba.com/event/baw-general-meeting/
LOCATION:Bronx Park Community Center\, 720 Henderson Hwy\, Winnipeg\, Manitoba\, Canada
END:VEVENT
BEGIN:VEVENT
DTSTART;TZID=UTC:20240203T093000
DTEND;TZID=UTC:20240203T123000
DTSTAMP:20260421T054417
CREATED:20231118T201602Z
LAST-MODIFIED:20231118T201602Z
UID:2317-1706952600-1706963400@ccom-manitoba.com
SUMMARY:Youth Cricket (Ages 8-14)
DESCRIPTION:Maples Community Centre invites youth 8-14 to join\, Winter indoor cricket\, Learn and play. Registration Fee: Only 40.00 for the indoor and outdoor season. For all registraion fees please contact Maples community Center Karminder 204.953.1190 or email: office@maples.ca
URL:https://ccom-manitoba.com/event/youth-cricket-ages-8-14-12/
LOCATION:Leila North School\, 20 Allan Blye Drive\, Winnipeg\, Manitoba\, Canada
ORGANIZER;CN="Kamta Roy Singh":MAILTO:kroysingh@shaw.ca
END:VEVENT
BEGIN:VEVENT
DTSTART;TZID=UTC:20240127T093000
DTEND;TZID=UTC:20240127T123000
DTSTAMP:20260421T054417
CREATED:20231118T201601Z
LAST-MODIFIED:20231118T201601Z
UID:2316-1706347800-1706358600@ccom-manitoba.com
SUMMARY:Youth Cricket (Ages 8-14)
DESCRIPTION:Maples Community Centre invites youth 8-14 to join\, Winter indoor cricket\, Learn and play. Registration Fee: Only 40.00 for the indoor and outdoor season. For all registraion fees please contact Maples community Center Karminder 204.953.1190 or email: office@maples.ca
URL:https://ccom-manitoba.com/event/youth-cricket-ages-8-14-11/
LOCATION:Leila North School\, 20 Allan Blye Drive\, Winnipeg\, Manitoba\, Canada
ORGANIZER;CN="Kamta Roy Singh":MAILTO:kroysingh@shaw.ca
END:VEVENT
BEGIN:VEVENT
DTSTART;TZID=UTC:20240120T093000
DTEND;TZID=UTC:20240120T123000
DTSTAMP:20260421T054417
CREATED:20231118T201600Z
LAST-MODIFIED:20231118T201600Z
UID:2315-1705743000-1705753800@ccom-manitoba.com
SUMMARY:Youth Cricket (Ages 8-14)
DESCRIPTION:Maples Community Centre invites youth 8-14 to join\, Winter indoor cricket\, Learn and play. Registration Fee: Only 40.00 for the indoor and outdoor season. For all registraion fees please contact Maples community Center Karminder 204.953.1190 or email: office@maples.ca
URL:https://ccom-manitoba.com/event/youth-cricket-ages-8-14-10/
LOCATION:Leila North School\, 20 Allan Blye Drive\, Winnipeg\, Manitoba\, Canada
ORGANIZER;CN="Kamta Roy Singh":MAILTO:kroysingh@shaw.ca
END:VEVENT
BEGIN:VEVENT
DTSTART;TZID=UTC:20240113T093000
DTEND;TZID=UTC:20240113T123000
DTSTAMP:20260421T054417
CREATED:20231118T201600Z
LAST-MODIFIED:20231118T201600Z
UID:2314-1705138200-1705149000@ccom-manitoba.com
SUMMARY:Youth Cricket (Ages 8-14)
DESCRIPTION:Maples Community Centre invites youth 8-14 to join\, Winter indoor cricket\, Learn and play. Registration Fee: Only 40.00 for the indoor and outdoor season. For all registraion fees please contact Maples community Center Karminder 204.953.1190 or email: office@maples.ca
URL:https://ccom-manitoba.com/event/youth-cricket-ages-8-14-9/
LOCATION:Leila North School\, 20 Allan Blye Drive\, Winnipeg\, Manitoba\, Canada
ORGANIZER;CN="Kamta Roy Singh":MAILTO:kroysingh@shaw.ca
END:VEVENT
BEGIN:VEVENT
DTSTART;TZID=UTC:20240107T143000
DTEND;TZID=UTC:20240107T163000
DTSTAMP:20260421T054417
CREATED:20231105T140706Z
LAST-MODIFIED:20231118T202753Z
UID:2279-1704637800-1704645000@ccom-manitoba.com
SUMMARY:BAW - General meeting & Membership Fees Due
DESCRIPTION:January 7th – General meeting & Membership Fees Due
URL:https://ccom-manitoba.com/event/baw-general-meeting-membership-fees-due/
LOCATION:Bronx Park Community Center\, 720 Henderson Hwy\, Winnipeg\, Manitoba\, Canada
END:VEVENT
BEGIN:VEVENT
DTSTART;TZID=UTC:20240106T093000
DTEND;TZID=UTC:20240106T123000
DTSTAMP:20260421T054417
CREATED:20231118T201600Z
LAST-MODIFIED:20231118T201600Z
UID:2313-1704533400-1704544200@ccom-manitoba.com
SUMMARY:Youth Cricket (Ages 8-14)
DESCRIPTION:Maples Community Centre invites youth 8-14 to join\, Winter indoor cricket\, Learn and play. Registration Fee: Only 40.00 for the indoor and outdoor season. For all registraion fees please contact Maples community Center Karminder 204.953.1190 or email: office@maples.ca
URL:https://ccom-manitoba.com/event/youth-cricket-ages-8-14-8/
LOCATION:Leila North School\, 20 Allan Blye Drive\, Winnipeg\, Manitoba\, Canada
ORGANIZER;CN="Kamta Roy Singh":MAILTO:kroysingh@shaw.ca
END:VEVENT
BEGIN:VEVENT
DTSTART;TZID=UTC:20231231T190000
DTEND;TZID=UTC:20231231T235900
DTSTAMP:20260421T054417
CREATED:20231120T001454Z
LAST-MODIFIED:20231120T001454Z
UID:2352-1704049200-1704067140@ccom-manitoba.com
SUMMARY:New Year's Eve Dinner & Dance
DESCRIPTION:
URL:https://ccom-manitoba.com/event/new-years-eve-dinner-dance/
LOCATION:Caribbean Community Cultural Centre (CCCC)\, 1100 Fife Street\, Winnipeg\, Manitoba\, R2X 3A5\, Canada
END:VEVENT
BEGIN:VEVENT
DTSTART;TZID=UTC:20231230T093000
DTEND;TZID=UTC:20231230T123000
DTSTAMP:20260421T054417
CREATED:20231118T201600Z
LAST-MODIFIED:20231118T201600Z
UID:2312-1703928600-1703939400@ccom-manitoba.com
SUMMARY:Youth Cricket (Ages 8-14)
DESCRIPTION:Maples Community Centre invites youth 8-14 to join\, Winter indoor cricket\, Learn and play. Registration Fee: Only 40.00 for the indoor and outdoor season. For all registraion fees please contact Maples community Center Karminder 204.953.1190 or email: office@maples.ca
URL:https://ccom-manitoba.com/event/youth-cricket-ages-8-14-7/
LOCATION:Leila North School\, 20 Allan Blye Drive\, Winnipeg\, Manitoba\, Canada
ORGANIZER;CN="Kamta Roy Singh":MAILTO:kroysingh@shaw.ca
END:VEVENT
BEGIN:VEVENT
DTSTART;TZID=UTC:20231223T093000
DTEND;TZID=UTC:20231223T123000
DTSTAMP:20260421T054417
CREATED:20231118T201600Z
LAST-MODIFIED:20231118T201600Z
UID:2311-1703323800-1703334600@ccom-manitoba.com
SUMMARY:Youth Cricket (Ages 8-14)
DESCRIPTION:Maples Community Centre invites youth 8-14 to join\, Winter indoor cricket\, Learn and play. Registration Fee: Only 40.00 for the indoor and outdoor season. For all registraion fees please contact Maples community Center Karminder 204.953.1190 or email: office@maples.ca
URL:https://ccom-manitoba.com/event/youth-cricket-ages-8-14-6/
LOCATION:Leila North School\, 20 Allan Blye Drive\, Winnipeg\, Manitoba\, Canada
ORGANIZER;CN="Kamta Roy Singh":MAILTO:kroysingh@shaw.ca
END:VEVENT
BEGIN:VEVENT
DTSTART;TZID=UTC:20231216T093000
DTEND;TZID=UTC:20231216T123000
DTSTAMP:20260421T054417
CREATED:20231118T201558Z
LAST-MODIFIED:20231118T201558Z
UID:2310-1702719000-1702729800@ccom-manitoba.com
SUMMARY:Youth Cricket (Ages 8-14)
DESCRIPTION:Maples Community Centre invites youth 8-14 to join\, Winter indoor cricket\, Learn and play. Registration Fee: Only 40.00 for the indoor and outdoor season. For all registraion fees please contact Maples community Center Karminder 204.953.1190 or email: office@maples.ca
URL:https://ccom-manitoba.com/event/youth-cricket-ages-8-14-5/
LOCATION:Leila North School\, 20 Allan Blye Drive\, Winnipeg\, Manitoba\, Canada
ORGANIZER;CN="Kamta Roy Singh":MAILTO:kroysingh@shaw.ca
END:VEVENT
BEGIN:VEVENT
DTSTART;TZID=UTC:20231209T200000
DTEND;TZID=UTC:20231209T235900
DTSTAMP:20260421T054417
CREATED:20230404T012849Z
LAST-MODIFIED:20230404T012849Z
UID:1630-1702152000-1702166340@ccom-manitoba.com
SUMMARY:GCO - Member’s Christmas Party
DESCRIPTION:Saturday\, Dec. 9th or 16th \nTBD\n8pm
URL:https://ccom-manitoba.com/event/gco-members-christmas-party/
LOCATION:Afro Caribbean Association of Manitoba (ACAM) Hall\, 259 Watt Street\, Winnipeg\, Manitoba\, R2K 2R5\, Canada
END:VEVENT
BEGIN:VEVENT
DTSTART;TZID=UTC:20231209T140000
DTEND;TZID=UTC:20231209T180000
DTSTAMP:20260421T054417
CREATED:20231120T001833Z
LAST-MODIFIED:20231120T001833Z
UID:2355-1702130400-1702144800@ccom-manitoba.com
SUMMARY:T&T Society of Winnipeg Annual Christmas Party
DESCRIPTION:
URL:https://ccom-manitoba.com/event/tt-society-of-winnipeg-annual-christmas-party/
LOCATION:Caribbean Community Cultural Centre (CCCC)\, 1100 Fife Street\, Winnipeg\, Manitoba\, R2X 3A5\, Canada
END:VEVENT
BEGIN:VEVENT
DTSTART;TZID=UTC:20231209T093000
DTEND;TZID=UTC:20231209T123000
DTSTAMP:20260421T054417
CREATED:20231118T201558Z
LAST-MODIFIED:20231118T201558Z
UID:2309-1702114200-1702125000@ccom-manitoba.com
SUMMARY:Youth Cricket (Ages 8-14)
DESCRIPTION:Maples Community Centre invites youth 8-14 to join\, Winter indoor cricket\, Learn and play. Registration Fee: Only 40.00 for the indoor and outdoor season. For all registraion fees please contact Maples community Center Karminder 204.953.1190 or email: office@maples.ca
URL:https://ccom-manitoba.com/event/youth-cricket-ages-8-14-4/
LOCATION:Leila North School\, 20 Allan Blye Drive\, Winnipeg\, Manitoba\, Canada
ORGANIZER;CN="Kamta Roy Singh":MAILTO:kroysingh@shaw.ca
END:VEVENT
BEGIN:VEVENT
DTSTART;TZID=UTC:20231202T093000
DTEND;TZID=UTC:20231202T123000
DTSTAMP:20260421T054417
CREATED:20231118T201558Z
LAST-MODIFIED:20231118T201558Z
UID:2308-1701509400-1701520200@ccom-manitoba.com
SUMMARY:Youth Cricket (Ages 8-14)
DESCRIPTION:Maples Community Centre invites youth 8-14 to join\, Winter indoor cricket\, Learn and play. Registration Fee: Only 40.00 for the indoor and outdoor season. For all registraion fees please contact Maples community Center Karminder 204.953.1190 or email: office@maples.ca
URL:https://ccom-manitoba.com/event/youth-cricket-ages-8-14-3/
LOCATION:Leila North School\, 20 Allan Blye Drive\, Winnipeg\, Manitoba\, Canada
ORGANIZER;CN="Kamta Roy Singh":MAILTO:kroysingh@shaw.ca
END:VEVENT
BEGIN:VEVENT
DTSTART;TZID=UTC:20231125T093000
DTEND;TZID=UTC:20231125T123000
DTSTAMP:20260421T054417
CREATED:20231118T201558Z
LAST-MODIFIED:20231118T201558Z
UID:2307-1700904600-1700915400@ccom-manitoba.com
SUMMARY:Youth Cricket (Ages 8-14)
DESCRIPTION:Maples Community Centre invites youth 8-14 to join\, Winter indoor cricket\, Learn and play. Registration Fee: Only 40.00 for the indoor and outdoor season. For all registraion fees please contact Maples community Center Karminder 204.953.1190 or email: office@maples.ca
URL:https://ccom-manitoba.com/event/youth-cricket-ages-8-14-2/
LOCATION:Leila North School\, 20 Allan Blye Drive\, Winnipeg\, Manitoba\, Canada
ORGANIZER;CN="Kamta Roy Singh":MAILTO:kroysingh@shaw.ca
END:VEVENT
BEGIN:VEVENT
DTSTART;TZID=UTC:20231118T093000
DTEND;TZID=UTC:20231118T123000
DTSTAMP:20260421T054417
CREATED:20231118T201558Z
LAST-MODIFIED:20231118T201558Z
UID:2306-1700299800-1700310600@ccom-manitoba.com
SUMMARY:Youth Cricket (Ages 8-14)
DESCRIPTION:Maples Community Centre invites youth 8-14 to join\, Winter indoor cricket\, Learn and play. Registration Fee: Only 40.00 for the indoor and outdoor season. For all registraion fees please contact Maples community Center Karminder 204.953.1190 or email: office@maples.ca
URL:https://ccom-manitoba.com/event/youth-cricket-ages-8-14/
LOCATION:Leila North School\, 20 Allan Blye Drive\, Winnipeg\, Manitoba\, Canada
ORGANIZER;CN="Kamta Roy Singh":MAILTO:kroysingh@shaw.ca
END:VEVENT
BEGIN:VEVENT
DTSTART;TZID=UTC:20231111T170000
DTEND;TZID=UTC:20231111T220000
DTSTAMP:20260421T054417
CREATED:20231002T125121Z
LAST-MODIFIED:20231105T133753Z
UID:2109-1699722000-1699740000@ccom-manitoba.com
SUMMARY:CANCELLED - Fall Supper - Caribbean Seniors 55+ Horizon Club
DESCRIPTION:This Event Has Been Cancelled.\nLetter from the executive team: Cancellation Fall Supper \nFall Supper\nCaribbean Seniors 55+ Horizon Club \nDate: Saturday\, November 11\, 2023\nTime: 5:00 PM\nVenue: 1100 Fife Street\, Winnipeg\, MB\nTickets: $25.00 \nMenu: \n\nRoast turkey\, dressing and gravy\nMashed potatoes\nVeggies\nSalad and roll\nDesserts\, coffee and tea\n\nFor tickets\, please contact:\nJoy – 204.880.5982\nJanice – 204.255.7871\nShirley – 204.339.0453
URL:https://ccom-manitoba.com/event/fall-supper-caribbean-seniors-55-horizon-club/
LOCATION:Caribbean Community Cultural Centre (CCCC)\, 1100 Fife Street\, Winnipeg\, Manitoba\, R2X 3A5\, Canada
ATTACH;FMTTYPE=image/png:https://ccom-manitoba.com/wp-content/uploads/2023/10/55-Fall-Supper-2023-Poster-Cancelled.png
END:VEVENT
BEGIN:VEVENT
DTSTART;TZID=UTC:20231021T183000
DTEND;TZID=UTC:20231021T235900
DTSTAMP:20260421T054417
CREATED:20231014T180318Z
LAST-MODIFIED:20231016T134356Z
UID:2156-1697913000-1697932740@ccom-manitoba.com
SUMMARY:Folklorama Volunteer Appreciation
DESCRIPTION:Without your hard work and dedication our Caribbean Pavilion could not have been a success! \nJoin us at for an evening of entertainment. \n  \nClick below to RSVP: \nhttp://ccom-manitoba.com/volunteer-appreciation/
URL:https://ccom-manitoba.com/event/folklorama-volunteer-appreciation/
LOCATION:Caribbean Community Cultural Centre (CCCC)\, 1100 Fife Street\, Winnipeg\, Manitoba\, R2X 3A5\, Canada
ORGANIZER;CN="The Council of Caribbean Organizations of MB (CCOM)":MAILTO:admin@ccom-manitoba.com
END:VEVENT
BEGIN:VEVENT
DTSTART;TZID=UTC:20231015T140000
DTEND;TZID=UTC:20231015T170000
DTSTAMP:20260421T054417
CREATED:20230404T012635Z
LAST-MODIFIED:20230404T013125Z
UID:1628-1697378400-1697389200@ccom-manitoba.com
SUMMARY:GCO - Senior’s Fall Supper
DESCRIPTION:Venue TBA
URL:https://ccom-manitoba.com/event/gco-seniors-fall-supper/
ORGANIZER;CN="Guyanese Cultural Organization":MAILTO:guyaneseculturalorg@gmail.com
END:VEVENT
BEGIN:VEVENT
DTSTART;TZID=UTC:20230902T200000
DTEND;TZID=UTC:20230902T235900
DTSTAMP:20260421T054417
CREATED:20230404T012523Z
LAST-MODIFIED:20230404T012523Z
UID:1626-1693684800-1693699140@ccom-manitoba.com
SUMMARY:GCO - All White Party
DESCRIPTION:
URL:https://ccom-manitoba.com/event/gco-all-white-party/
LOCATION:Caribbean Community Cultural Centre (CCCC)\, 1100 Fife Street\, Winnipeg\, Manitoba\, R2X 3A5\, Canada
ORGANIZER;CN="Guyanese Cultural Organization":MAILTO:guyaneseculturalorg@gmail.com
END:VEVENT
BEGIN:VEVENT
DTSTART;VALUE=DATE:20230831
DTEND;VALUE=DATE:20230901
DTSTAMP:20260421T054417
CREATED:20230823T031658Z
LAST-MODIFIED:20230823T031723Z
UID:2104-1693440000-1693526399@ccom-manitoba.com
SUMMARY:Trinidad and Tobago Society of Winnipeg - Independence Flag Raising Ceremony
DESCRIPTION:Trinidad and Tobago Society of Winnipeg\nFlag raising on Aug 31\, 2023 at The City Hall of Winnipeg
URL:https://ccom-manitoba.com/event/trinidad-and-tobago-society-of-winnipeg-independence-flag-raising-ceremony/
LOCATION:City Hall of Winnipeg\, MB\, 510 Main Street\, Winnipeg\, Manitoba\, R3B 1B9
ATTACH;FMTTYPE=image/jpeg:https://ccom-manitoba.com/wp-content/uploads/2023/08/flag-of-trinidad-and-tobago-3036188_1280.jpg
END:VEVENT
BEGIN:VEVENT
DTSTART;TZID=UTC:20230829T183000
DTEND;TZID=UTC:20230829T183000
DTSTAMP:20260421T054417
CREATED:20230713T002259Z
LAST-MODIFIED:20230713T002259Z
UID:1999-1693333800-1693333800@ccom-manitoba.com
SUMMARY:Maples Lions Youth Cricket Program (Ages 8-14 years)
DESCRIPTION:The Maples Lions Youth cricket Program invites youth age 8-14 years to join the summer cricket.\nThis will be at Elwick Cricket Ground 30 Maberley Rd on every Tuesday from 6.30pm to 9pm. \nDuration of the summer cricket program is from July 4 to Tues Aug 29 \nRegistration fees is $35.00 \nFor further Information Contact: \nKamta Roy Singh\n204-227-4193\nkroysingh@shaw.ca \nGlenis Haynes\n204-880-8144\ng97haynes@yahoo .ca \nFelix Perera\n204-995-6441
URL:https://ccom-manitoba.com/event/maples-lions-youth-cricket-program-ages-8-14-years-9/
END:VEVENT
BEGIN:VEVENT
DTSTART;TZID=UTC:20230826T100000
DTEND;TZID=UTC:20230826T140000
DTSTAMP:20260421T054417
CREATED:20230823T030719Z
LAST-MODIFIED:20230823T030719Z
UID:2100-1693044000-1693058400@ccom-manitoba.com
SUMMARY:Trinidad and Tobago Society of Winnipeg - 61st Anniversary of Independence of Trinidad and Tobago
DESCRIPTION:Trinidad and Tobago Society of Winnipeg\n61st Anniversary of Independence of Trinidad and Tobago \nSaturday Aug-26-2023 at 10am – 2pm \n\nTrini Breakfast and mini cultural show\nSteel pan music and other performances\nMusic by Dj Vibesman CKUW 95.9 FM\n\nAdmission \n\n$20.00 – Adults\n$12.00 – Children under 15 years old
URL:https://ccom-manitoba.com/event/trinidad-and-tobago-society-of-winnipeg-61st-anniversary-of-independence-of-trinidad-and-tobago/
LOCATION:Caribbean Community Cultural Centre (CCCC)\, 1100 Fife Street\, Winnipeg\, Manitoba\, R2X 3A5\, Canada
ATTACH;FMTTYPE=image/png:https://ccom-manitoba.com/wp-content/uploads/2023/08/Independence-of-Trinidad-and-Tobago.png
END:VEVENT
BEGIN:VEVENT
DTSTART;TZID=UTC:20230825T103000
DTEND;TZID=UTC:20230825T210000
DTSTAMP:20260421T054417
CREATED:20230806T000845Z
LAST-MODIFIED:20230806T001404Z
UID:2011-1692959400-1692997200@ccom-manitoba.com
SUMMARY:CCHHE Golf Tournament Fri Aug 25 at Quarry Oaks
DESCRIPTION:The only thing better than playing a great\ngame of golf is playing for a great cause.\n  \nPlease join us for the 5th Annual Caribbean Canada Heart\nHealth Education (CCHHE) Charity Golf Classic. \nYou’ll enjoy a day of fabulous golf\, have fun with clients and\ncolleagues\, and help support humanitarian projects in the\nshipment of medical supplies to the most needed regions\nof the Caribbean and for the promotion of cardiovascular\neducation\, research and prevention. \n5th ANNUAL CCHHE CHARITY GOLF CLASSIC\nWhat: 18 holes of golf with a shared power cart\nWhen: Friday August 25\, 2023\nWhere: Quarry Oaks Golf Course\, Steinbach\nWhy: To help support CCHHE humanitarian projects \nPackage includes registration gift\, generous prizes\,\ncontinental breakfast\, bag lunch\, hole-in-one contest\,\n50/50 raffle\, dinner and presentation ceremony at Quarry\nOaks Golf Course. \nEVENT DETAILS:\n10:45 a.m. Registration and Lunch\n12:00 (noon) Shotgun Tee-Off\n6:00 p.m. Dinner & Presentations\nSpace is limited. Register by August 11\, 2023. \nREGISTRATION COSTS:\n$150 per registrant or $600 per team (foursome) \nFOR EVENT INFORMATION PLEASE CONTACT:\nKamta Roy Singh Joe Marrast\nT: 204-227-4193 T: 204-296-8396\nE: kroysingh@shaw.ca E: jmarrast@shaw.ca \nKris Ramchandar Richard Raghunath\nT: 204-229-0193 T: 647-927-5503\nE: kris.ramchandar@gmail.com E: richardr@rcrcpa.ca \nSomnath Kenneth Pram Tappia\nT: 204-999-7979 T: 204-254-2868\nE: kenneth23@shaw.ca E: tappia1963@gmail.com \n  \nREGISTRATION FORM\n 
URL:https://ccom-manitoba.com/event/cchhe-golf-tournament-fri-aug-25-at-quarry-oaks/
LOCATION:Quarry Oaks Golf Course\, 37142 Quarry Oaks Rd 38E\, Steinbach\, Manitoba\, R5G 1P7\, Canada
ATTACH;FMTTYPE=image/jpeg:https://ccom-manitoba.com/wp-content/uploads/2023/08/golf-g209bca842_640.jpeg
END:VEVENT
BEGIN:VEVENT
DTSTART;TZID=UTC:20230822T183000
DTEND;TZID=UTC:20230822T183000
DTSTAMP:20260421T054417
CREATED:20230713T002259Z
LAST-MODIFIED:20230713T002259Z
UID:1998-1692729000-1692729000@ccom-manitoba.com
SUMMARY:Maples Lions Youth Cricket Program (Ages 8-14 years)
DESCRIPTION:The Maples Lions Youth cricket Program invites youth age 8-14 years to join the summer cricket.\nThis will be at Elwick Cricket Ground 30 Maberley Rd on every Tuesday from 6.30pm to 9pm. \nDuration of the summer cricket program is from July 4 to Tues Aug 29 \nRegistration fees is $35.00 \nFor further Information Contact: \nKamta Roy Singh\n204-227-4193\nkroysingh@shaw.ca \nGlenis Haynes\n204-880-8144\ng97haynes@yahoo .ca \nFelix Perera\n204-995-6441
URL:https://ccom-manitoba.com/event/maples-lions-youth-cricket-program-ages-8-14-years-8/
END:VEVENT
BEGIN:VEVENT
DTSTART;TZID=UTC:20230815T183000
DTEND;TZID=UTC:20230815T183000
DTSTAMP:20260421T054417
CREATED:20230713T002258Z
LAST-MODIFIED:20230713T002258Z
UID:1997-1692124200-1692124200@ccom-manitoba.com
SUMMARY:Maples Lions Youth Cricket Program (Ages 8-14 years)
DESCRIPTION:The Maples Lions Youth cricket Program invites youth age 8-14 years to join the summer cricket.\nThis will be at Elwick Cricket Ground 30 Maberley Rd on every Tuesday from 6.30pm to 9pm. \nDuration of the summer cricket program is from July 4 to Tues Aug 29 \nRegistration fees is $35.00 \nFor further Information Contact: \nKamta Roy Singh\n204-227-4193\nkroysingh@shaw.ca \nGlenis Haynes\n204-880-8144\ng97haynes@yahoo .ca \nFelix Perera\n204-995-6441
URL:https://ccom-manitoba.com/event/maples-lions-youth-cricket-program-ages-8-14-years-7/
END:VEVENT
END:VCALENDAR