BEGIN:VCALENDAR
VERSION:2.0
PRODID:-//CCOM Manitoba - ECPv6.15.20//NONSGML v1.0//EN
CALSCALE:GREGORIAN
METHOD:PUBLISH
X-WR-CALNAME:CCOM Manitoba
X-ORIGINAL-URL:https://ccom-manitoba.com
X-WR-CALDESC:Events for CCOM Manitoba
REFRESH-INTERVAL;VALUE=DURATION:PT1H
X-Robots-Tag:noindex
X-PUBLISHED-TTL:PT1H
BEGIN:VTIMEZONE
TZID:UTC
BEGIN:STANDARD
TZOFFSETFROM:+0000
TZOFFSETTO:+0000
TZNAME:UTC
DTSTART:20230101T000000
END:STANDARD
END:VTIMEZONE
BEGIN:VEVENT
DTSTART;TZID=UTC:20240518T170000
DTEND;TZID=UTC:20240518T235900
DTSTAMP:20260421T040202
CREATED:20240514T022803Z
LAST-MODIFIED:20240514T112354Z
UID:2902-1716051600-1716076740@ccom-manitoba.com
SUMMARY:Ah We Kind Ah Food!
DESCRIPTION:Food and Bake Table \nMusic by Popular DJ \nCost: $30 \nKids under 13 years: $15
URL:https://ccom-manitoba.com/event/ah-we-kind-ah-food/
LOCATION:Caribbean Community Cultural Centre (CCCC)\, 1100 Fife Street\, Winnipeg\, Manitoba\, R2X 3A5\, Canada
ATTACH;FMTTYPE=image/jpeg:https://ccom-manitoba.com/wp-content/uploads/2024/05/IMG_1005.jpeg
END:VEVENT
BEGIN:VEVENT
DTSTART;TZID=UTC:20240516T130000
DTEND;TZID=UTC:20240516T160000
DTSTAMP:20260421T040202
CREATED:20240205T234220Z
LAST-MODIFIED:20240205T235835Z
UID:2403-1715864400-1715875200@ccom-manitoba.com
SUMMARY:Spring Luncheon: Fundraising Event
DESCRIPTION:Entertainment\, Bake table\, Silent auction.\nThe Caribbean 55 plus Horizon Club of Manitoba\, Inc.\n5-1100 Fife St. WPG MB R2X 3A5\nCalendar of Events\, 2024 \nEach month’s activity starts at 1PM on the third Thursday of the month. All persons 55+ are\nencouraged to attend our events and/or to become members. For info: Call Joy: (204) 275\n2954\, or email: jpbissoon@gmail.com Or Shirley: shirle@mymts.net or (204)339 0453
URL:https://ccom-manitoba.com/event/spring-luncheon-fundraising-event/
LOCATION:Caribbean Community Cultural Centre (CCCC)\, 1100 Fife Street\, Winnipeg\, Manitoba\, R2X 3A5\, Canada
CATEGORIES:FALSE
END:VEVENT
BEGIN:VEVENT
DTSTART;TZID=UTC:20240505T143000
DTEND;TZID=UTC:20240505T163000
DTSTAMP:20260421T040202
CREATED:20231105T140706Z
LAST-MODIFIED:20231118T202909Z
UID:2283-1714919400-1714926600@ccom-manitoba.com
SUMMARY:BAW - General meeting
DESCRIPTION:May 5th – General meeting
URL:https://ccom-manitoba.com/event/baw-general-meeting-3/
LOCATION:Bronx Park Community Center\, 720 Henderson Hwy\, Winnipeg\, Manitoba\, Canada
END:VEVENT
BEGIN:VEVENT
DTSTART;TZID=UTC:20240420T093000
DTEND;TZID=UTC:20240420T123000
DTSTAMP:20260421T040202
CREATED:20231118T201645Z
LAST-MODIFIED:20231118T201645Z
UID:2328-1713605400-1713616200@ccom-manitoba.com
SUMMARY:Youth Cricket (Ages 8-14)
DESCRIPTION:Maples Community Centre invites youth 8-14 to join\, Winter indoor cricket\, Learn and play. Registration Fee: Only 40.00 for the indoor and outdoor season. For all registraion fees please contact Maples community Center Karminder 204.953.1190 or email: office@maples.ca
URL:https://ccom-manitoba.com/event/youth-cricket-ages-8-14-23/
LOCATION:Leila North School\, 20 Allan Blye Drive\, Winnipeg\, Manitoba\, Canada
ORGANIZER;CN="Kamta Roy Singh":MAILTO:kroysingh@shaw.ca
END:VEVENT
BEGIN:VEVENT
DTSTART;TZID=UTC:20240418T130000
DTEND;TZID=UTC:20240418T160000
DTSTAMP:20260421T040202
CREATED:20240205T234220Z
LAST-MODIFIED:20240205T235835Z
UID:2402-1713445200-1713456000@ccom-manitoba.com
SUMMARY:Meeting our Indigenous Neighbours
DESCRIPTION:As “Newcomers”\, we have much to learn from the first inhabitants of our adopted home\, Canada. This will be a time of sharing: our cultural values and our customs\, followed by a hot meal. Registration is required by April 11 or before\, so we can provide for everyone. See above for contact info.\nThe Caribbean 55 plus Horizon Club of Manitoba\, Inc.\n5-1100 Fife St. WPG MB R2X 3A5\nCalendar of Events\, 2024 \nEach month’s activity starts at 1PM on the third Thursday of the month. All persons 55+ are\nencouraged to attend our events and/or to become members. For info: Call Joy: (204) 275\n2954\, or email: jpbissoon@gmail.com Or Shirley: shirle@mymts.net or (204)339 0453
URL:https://ccom-manitoba.com/event/meeting-our-indigenous-neighbours/
LOCATION:Caribbean Community Cultural Centre (CCCC)\, 1100 Fife Street\, Winnipeg\, Manitoba\, R2X 3A5\, Canada
CATEGORIES:FALSE
END:VEVENT
BEGIN:VEVENT
DTSTART;TZID=UTC:20240413T093000
DTEND;TZID=UTC:20240413T123000
DTSTAMP:20260421T040202
CREATED:20231118T201645Z
LAST-MODIFIED:20231118T201645Z
UID:2327-1713000600-1713011400@ccom-manitoba.com
SUMMARY:Youth Cricket (Ages 8-14)
DESCRIPTION:Maples Community Centre invites youth 8-14 to join\, Winter indoor cricket\, Learn and play. Registration Fee: Only 40.00 for the indoor and outdoor season. For all registraion fees please contact Maples community Center Karminder 204.953.1190 or email: office@maples.ca
URL:https://ccom-manitoba.com/event/youth-cricket-ages-8-14-22/
LOCATION:Leila North School\, 20 Allan Blye Drive\, Winnipeg\, Manitoba\, Canada
ORGANIZER;CN="Kamta Roy Singh":MAILTO:kroysingh@shaw.ca
END:VEVENT
BEGIN:VEVENT
DTSTART;TZID=UTC:20240410T193000
DTEND;TZID=UTC:20240410T213000
DTSTAMP:20260421T040202
CREATED:20240325T154937Z
LAST-MODIFIED:20240325T155724Z
UID:2550-1712777400-1712784600@ccom-manitoba.com
SUMMARY:The Manitoba Chamber Orchestra and Janeba Kanneh-Mason\, concert Pianist performs Mozart
DESCRIPTION:The Manitoba Chamber Orchestra and Janeba Kanneh-Mason\, concert Pianist performs Mozart: \nDate: Wednesday\, April 10 at 1:00PM or 7:30 PM \nPlace: Crescent Fort Rouge United Church\, 525 Wardlaw Ave \nREGISTER NOW \nJaneba is beginning her career as a concert pianist and is one of six siblings who are all talented musicians.  The oldest\, brother Sheku who plays the ‘cello\, became especially famous when performed at Prince Harry and Meghan’s wedding; he has since gone on to have an exceptional international career.  \n\n\nTheir sister\, Isata is also a pianist\, who has also established herself internationally\, often performing together with Sheku.  Janeba’s mother is originally from Sierra Leone and her father’s parents hail from Antigua\, the father having been born in London.  \n\n\n\n\n\nThe conductor for this concert is African-American Jeri Lynne Johnson who conducted a piece by a Kennedy Centre Honors recipient\, on the televised awards show on CBS. This concert also features a work called “Source Code” by African-American composer Jesse Montgomery who just won the Grammy for best classical composition. \nThis certainly is a concert celebrating Black female empowerment and achievement!    \n\n\n\n\n\nWe encourage the Caribbean community to come out and support this young talented pianist.  Here is the link to the MCO website: \nREGISTER NOW \nhttps://themco.ca/concerts/jeneba-kanneh-mason
URL:https://ccom-manitoba.com/event/the-manitoba-chamber-orchestra-and-janeba-kanneh-mason-concert-pianist-performs-mozart/
LOCATION:Crescent Fort Rouge United Church\, 525 Wardlaw Ave.\, Winnipeg\, Manitoba\, R3L 0L9\, Canada
ATTACH;FMTTYPE=image/jpeg:https://ccom-manitoba.com/wp-content/uploads/2024/03/Jeneba_Kanneh_Mason_John-Davis-5.jpeg
ORGANIZER;CN="The Manitoba Chamber Orchestra":MAILTO:info@themco.ca
END:VEVENT
BEGIN:VEVENT
DTSTART;TZID=UTC:20240407T143000
DTEND;TZID=UTC:20240407T163000
DTSTAMP:20260421T040202
CREATED:20231105T140706Z
LAST-MODIFIED:20231118T202855Z
UID:2282-1712500200-1712507400@ccom-manitoba.com
SUMMARY:BAW - General meeting
DESCRIPTION:April 7th – General meeting
URL:https://ccom-manitoba.com/event/baw-general-meeting-2/
LOCATION:Bronx Park Community Center\, 720 Henderson Hwy\, Winnipeg\, Manitoba\, Canada
END:VEVENT
BEGIN:VEVENT
DTSTART;TZID=UTC:20240407T140000
DTEND;TZID=UTC:20240407T170000
DTSTAMP:20260421T040202
CREATED:20240206T015121Z
LAST-MODIFIED:20240330T164137Z
UID:2445-1712498400-1712509200@ccom-manitoba.com
SUMMARY:Annual Spring Tea
DESCRIPTION:Annual Spring Tea \nWinnipeg Calendar of Events 2024\nSunday\,\nApril 7\, 2024\n2:00-5:00pm
URL:https://ccom-manitoba.com/event/annual-spring-tea/
LOCATION:Caribbean Community Cultural Centre (CCCC)\, 1100 Fife Street\, Winnipeg\, Manitoba\, R2X 3A5\, Canada
ATTACH;FMTTYPE=image/jpeg:https://ccom-manitoba.com/wp-content/uploads/2024/02/IMG_3206-1.jpeg
ORGANIZER;CN="Guyanese Cultural Organization":MAILTO:guyaneseculturalorg@gmail.com
END:VEVENT
BEGIN:VEVENT
DTSTART;TZID=UTC:20240406T093000
DTEND;TZID=UTC:20240406T123000
DTSTAMP:20260421T040202
CREATED:20231118T201645Z
LAST-MODIFIED:20231118T201645Z
UID:2326-1712395800-1712406600@ccom-manitoba.com
SUMMARY:Youth Cricket (Ages 8-14)
DESCRIPTION:Maples Community Centre invites youth 8-14 to join\, Winter indoor cricket\, Learn and play. Registration Fee: Only 40.00 for the indoor and outdoor season. For all registraion fees please contact Maples community Center Karminder 204.953.1190 or email: office@maples.ca
URL:https://ccom-manitoba.com/event/youth-cricket-ages-8-14-21/
LOCATION:Leila North School\, 20 Allan Blye Drive\, Winnipeg\, Manitoba\, Canada
ORGANIZER;CN="Kamta Roy Singh":MAILTO:kroysingh@shaw.ca
END:VEVENT
BEGIN:VEVENT
DTSTART;VALUE=DATE:20240331
DTEND;VALUE=DATE:20240401
DTSTAMP:20260421T040202
CREATED:20240323T181150Z
LAST-MODIFIED:20240323T181341Z
UID:2545-1711843200-1711929599@ccom-manitoba.com
SUMMARY:Scholarship Award - Canada Canadian Heart Health Education
DESCRIPTION:The Canada Caribbean Heart Health Education (CCHHE) Executive is pleased to announce its 2024 scholarship awards! \nApplication deadline is March 31st\, 2024. \nInformation and application form can be found here :\nScholarship Award – Canada Caribbean Heart Health Education.
URL:https://ccom-manitoba.com/event/scholarship-award-canada-canadian-heart-health-education/
ATTACH;FMTTYPE=image/jpeg:https://ccom-manitoba.com/wp-content/uploads/2024/03/Scholarship.jpeg
END:VEVENT
BEGIN:VEVENT
DTSTART;TZID=UTC:20240330T093000
DTEND;TZID=UTC:20240330T123000
DTSTAMP:20260421T040202
CREATED:20231118T201618Z
LAST-MODIFIED:20231118T201618Z
UID:2325-1711791000-1711801800@ccom-manitoba.com
SUMMARY:Youth Cricket (Ages 8-14)
DESCRIPTION:Maples Community Centre invites youth 8-14 to join\, Winter indoor cricket\, Learn and play. Registration Fee: Only 40.00 for the indoor and outdoor season. For all registraion fees please contact Maples community Center Karminder 204.953.1190 or email: office@maples.ca
URL:https://ccom-manitoba.com/event/youth-cricket-ages-8-14-20/
LOCATION:Leila North School\, 20 Allan Blye Drive\, Winnipeg\, Manitoba\, Canada
ORGANIZER;CN="Kamta Roy Singh":MAILTO:kroysingh@shaw.ca
END:VEVENT
BEGIN:VEVENT
DTSTART;TZID=UTC:20240323T190000
DTEND;TZID=UTC:20240323T200000
DTSTAMP:20260421T040202
CREATED:20240308T203230Z
LAST-MODIFIED:20240308T204010Z
UID:2526-1711220400-1711224000@ccom-manitoba.com
SUMMARY:Shine Your Light IX - Let's Celebrate!
DESCRIPTION:Let the students of Anansi School for the Performing Arts share what they’ve learned this season. \nCome join us for our 9th Shine Your Light show as we explore the history and variety of festivals in the Caribbean. \nTime – 7:00 PM – 8:00 PM\nAdmission – Cash Donation at the door\nLocation – Rachel Browne Theatre 211 Bannatyne Avenue\, Winnipeg\, MB
URL:https://ccom-manitoba.com/event/shine-your-light-ix-lets-celebrate/
LOCATION:Rachel Browne Theatre\, 211 Bannatyne Avenue\, Winnipeg\, Manitoba\, R3B 1M3\, Canada
ATTACH;FMTTYPE=image/jpeg:https://ccom-manitoba.com/wp-content/uploads/2024/03/SYL9-March-2024.jpeg
ORGANIZER;CN="Anansi School for the Performing Arts":MAILTO:anansiweb@live.com
END:VEVENT
BEGIN:VEVENT
DTSTART;TZID=UTC:20240323T093000
DTEND;TZID=UTC:20240323T123000
DTSTAMP:20260421T040202
CREATED:20231118T201618Z
LAST-MODIFIED:20231118T201618Z
UID:2324-1711186200-1711197000@ccom-manitoba.com
SUMMARY:Youth Cricket (Ages 8-14)
DESCRIPTION:Maples Community Centre invites youth 8-14 to join\, Winter indoor cricket\, Learn and play. Registration Fee: Only 40.00 for the indoor and outdoor season. For all registraion fees please contact Maples community Center Karminder 204.953.1190 or email: office@maples.ca
URL:https://ccom-manitoba.com/event/youth-cricket-ages-8-14-19/
LOCATION:Leila North School\, 20 Allan Blye Drive\, Winnipeg\, Manitoba\, Canada
ORGANIZER;CN="Kamta Roy Singh":MAILTO:kroysingh@shaw.ca
END:VEVENT
BEGIN:VEVENT
DTSTART;TZID=UTC:20240321T130000
DTEND;TZID=UTC:20240321T160000
DTSTAMP:20260421T040202
CREATED:20240205T234220Z
LAST-MODIFIED:20240205T235834Z
UID:2401-1711026000-1711036800@ccom-manitoba.com
SUMMARY:Your Health: Ask a doctor
DESCRIPTION:Guest presenter: Dr. Rudy Ramchandar\, a retired physician with over 30 years of medical practice experience in MB and ON. As seniors\, our health concerns are often a topic for discussion. All are welcome; invite widely.\nThe Caribbean 55 plus Horizon Club of Manitoba\, Inc.\n5-1100 Fife St. WPG MB R2X 3A5\nCalendar of Events\, 2024 \nEach month’s activity starts at 1PM on the third Thursday of the month. All persons 55+ are\nencouraged to attend our events and/or to become members. For info: Call Joy: (204) 275\n2954\, or email: jpbissoon@gmail.com Or Shirley: shirle@mymts.net or (204)339 0453
URL:https://ccom-manitoba.com/event/your-health-ask-a-doctor/
LOCATION:Caribbean Community Cultural Centre (CCCC)\, 1100 Fife Street\, Winnipeg\, Manitoba\, R2X 3A5\, Canada
CATEGORIES:FALSE
END:VEVENT
BEGIN:VEVENT
DTSTART;TZID=UTC:20240316T093000
DTEND;TZID=UTC:20240316T123000
DTSTAMP:20260421T040202
CREATED:20231118T201618Z
LAST-MODIFIED:20231118T201618Z
UID:2323-1710581400-1710592200@ccom-manitoba.com
SUMMARY:Youth Cricket (Ages 8-14)
DESCRIPTION:Maples Community Centre invites youth 8-14 to join\, Winter indoor cricket\, Learn and play. Registration Fee: Only 40.00 for the indoor and outdoor season. For all registraion fees please contact Maples community Center Karminder 204.953.1190 or email: office@maples.ca
URL:https://ccom-manitoba.com/event/youth-cricket-ages-8-14-18/
LOCATION:Leila North School\, 20 Allan Blye Drive\, Winnipeg\, Manitoba\, Canada
ORGANIZER;CN="Kamta Roy Singh":MAILTO:kroysingh@shaw.ca
END:VEVENT
BEGIN:VEVENT
DTSTART;TZID=UTC:20240309T093000
DTEND;TZID=UTC:20240309T123000
DTSTAMP:20260421T040202
CREATED:20231118T201617Z
LAST-MODIFIED:20231118T201617Z
UID:2322-1709976600-1709987400@ccom-manitoba.com
SUMMARY:Youth Cricket (Ages 8-14)
DESCRIPTION:Maples Community Centre invites youth 8-14 to join\, Winter indoor cricket\, Learn and play. Registration Fee: Only 40.00 for the indoor and outdoor season. For all registraion fees please contact Maples community Center Karminder 204.953.1190 or email: office@maples.ca
URL:https://ccom-manitoba.com/event/youth-cricket-ages-8-14-17/
LOCATION:Leila North School\, 20 Allan Blye Drive\, Winnipeg\, Manitoba\, Canada
ORGANIZER;CN="Kamta Roy Singh":MAILTO:kroysingh@shaw.ca
END:VEVENT
BEGIN:VEVENT
DTSTART;TZID=UTC:20240303T143000
DTEND;TZID=UTC:20240303T163000
DTSTAMP:20260421T040202
CREATED:20231105T140706Z
LAST-MODIFIED:20231118T202837Z
UID:2281-1709476200-1709483400@ccom-manitoba.com
SUMMARY:BAW - AGM (Voting for Executive Positions)
DESCRIPTION:March 3rd – AGM (Voting for Executive Positions)
URL:https://ccom-manitoba.com/event/baw-agm-voting-for-executive-positions/
LOCATION:Bronx Park Community Center\, 720 Henderson Hwy\, Winnipeg\, Manitoba\, Canada
END:VEVENT
BEGIN:VEVENT
DTSTART;TZID=UTC:20240302T093000
DTEND;TZID=UTC:20240302T123000
DTSTAMP:20260421T040202
CREATED:20231118T201617Z
LAST-MODIFIED:20231118T201617Z
UID:2321-1709371800-1709382600@ccom-manitoba.com
SUMMARY:Youth Cricket (Ages 8-14)
DESCRIPTION:Maples Community Centre invites youth 8-14 to join\, Winter indoor cricket\, Learn and play. Registration Fee: Only 40.00 for the indoor and outdoor season. For all registraion fees please contact Maples community Center Karminder 204.953.1190 or email: office@maples.ca
URL:https://ccom-manitoba.com/event/youth-cricket-ages-8-14-16/
LOCATION:Leila North School\, 20 Allan Blye Drive\, Winnipeg\, Manitoba\, Canada
ORGANIZER;CN="Kamta Roy Singh":MAILTO:kroysingh@shaw.ca
END:VEVENT
BEGIN:VEVENT
DTSTART;TZID=UTC:20240224T180000
DTEND;TZID=UTC:20240224T210000
DTSTAMP:20260421T040202
CREATED:20240206T015121Z
LAST-MODIFIED:20240206T015524Z
UID:2444-1708797600-1708808400@ccom-manitoba.com
SUMMARY:Republic Day Celebration & Pot Luck Supper
DESCRIPTION:Republic Day Celebration & Pot Luck Supper \nWinnipeg Calendar of Events 2024\nSaturday\nFebruary 24\, 2024\n6:00 pm
URL:https://ccom-manitoba.com/event/republic-day-celebration-pot-luck-supper/
LOCATION:Afro Caribbean Association of Manitoba (ACAM) Hall\, 259 Watt Street\, Winnipeg\, Manitoba\, R2K 2R5\, Canada
ORGANIZER;CN="Guyanese Cultural Organization":MAILTO:guyaneseculturalorg@gmail.com
END:VEVENT
BEGIN:VEVENT
DTSTART;TZID=UTC:20240224T140000
DTEND;TZID=UTC:20240224T160000
DTSTAMP:20260421T040202
CREATED:20240210T180021Z
LAST-MODIFIED:20240210T180455Z
UID:2483-1708783200-1708790400@ccom-manitoba.com
SUMMARY:A Celebration of Black Excellence!
DESCRIPTION:SPECIAL INVITATION: Invitation to Community Grand Reception in honour of Hon. Uzoma Asagwara and Hon. Jamie Moses \nDear esteemed community member\, \nOn behalf of the Council of Caribbean Organizations of Manitoba. (CCOM) I would like to extend a special invitation to you and your community to join us at a Community Grand Reception in honour of two valued members of our black community: Honourable Uzoma Asagwara\, Deputy premier and minister of Minister of Health\, Seniors and Long-Term Care ; and Honourable Jamie Moses\, Minister of Economic Development\, Investment\, Trade and Natural Resources respectively. \nThe schedule of the event is as follows: \nDate: Saturday February 24\, 2024\nTime: 2:00Pm to 4:00PM\nVenue: CCOM Centre\, 1100 Fife Street\, Winnipeg \nThe Community Grand Reception jointly organized by the Council of Caribbean Organizations of Manitoba (CCOM)and the African Communities of Manitoba Inc. (ACOMI) will be a day to celebrate the unity\, strength\, and pride of our African and Caribbean Heritage. \nWe are counting on your presence as well as your assistance in mobilizing members of your organization and community\, including young people\, to attend this event. If you have any questions or require additional information\, please do not hesitate to contact us at admin@ccom-manitoba.com or 204-479-8390 \nWe eagerly await the confirmation of your attendance and we look forward to seeing you and your community members at this important celebration. \nBest wishes\, \nLance Brenna \nPresident
URL:https://ccom-manitoba.com/event/a-celebration-of-black-excellence/
LOCATION:Caribbean Community Cultural Centre (CCCC)\, 1100 Fife Street\, Winnipeg\, Manitoba\, R2X 3A5\, Canada
ATTACH;FMTTYPE=image/jpeg:https://ccom-manitoba.com/wp-content/uploads/2024/02/Community-Grand-Reception-Saturday-February-24-2024-1.jpg
ORGANIZER;CN="The Council of Caribbean Organizations of MB (CCOM)":MAILTO:admin@ccom-manitoba.com
END:VEVENT
BEGIN:VEVENT
DTSTART;TZID=UTC:20240224T093000
DTEND;TZID=UTC:20240224T123000
DTSTAMP:20260421T040202
CREATED:20231118T201602Z
LAST-MODIFIED:20231118T201602Z
UID:2320-1708767000-1708777800@ccom-manitoba.com
SUMMARY:Youth Cricket (Ages 8-14)
DESCRIPTION:Maples Community Centre invites youth 8-14 to join\, Winter indoor cricket\, Learn and play. Registration Fee: Only 40.00 for the indoor and outdoor season. For all registraion fees please contact Maples community Center Karminder 204.953.1190 or email: office@maples.ca
URL:https://ccom-manitoba.com/event/youth-cricket-ages-8-14-15/
LOCATION:Leila North School\, 20 Allan Blye Drive\, Winnipeg\, Manitoba\, Canada
ORGANIZER;CN="Kamta Roy Singh":MAILTO:kroysingh@shaw.ca
END:VEVENT
BEGIN:VEVENT
DTSTART;TZID=UTC:20240217T093000
DTEND;TZID=UTC:20240217T123000
DTSTAMP:20260421T040202
CREATED:20231118T201602Z
LAST-MODIFIED:20231118T201602Z
UID:2319-1708162200-1708173000@ccom-manitoba.com
SUMMARY:Youth Cricket (Ages 8-14)
DESCRIPTION:Maples Community Centre invites youth 8-14 to join\, Winter indoor cricket\, Learn and play. Registration Fee: Only 40.00 for the indoor and outdoor season. For all registraion fees please contact Maples community Center Karminder 204.953.1190 or email: office@maples.ca
URL:https://ccom-manitoba.com/event/youth-cricket-ages-8-14-14/
LOCATION:Leila North School\, 20 Allan Blye Drive\, Winnipeg\, Manitoba\, Canada
ORGANIZER;CN="Kamta Roy Singh":MAILTO:kroysingh@shaw.ca
END:VEVENT
BEGIN:VEVENT
DTSTART;TZID=UTC:20240216T170000
DTEND;TZID=UTC:20240216T213000
DTSTAMP:20260421T040202
CREATED:20240207T035705Z
LAST-MODIFIED:20240212T145743Z
UID:2477-1708102800-1708119000@ccom-manitoba.com
SUMMARY:Third Annual Black History Month @ Fort Richmond Collegiate – February 16\, 2024 – 5PM
DESCRIPTION:DATE/TIME\n\nFebruary 16\, 2024\n5:00PM to 9:30PM\n\nLOCATION\nFort Richmond Collegiate- 99 Killarney Ave\, Winnipeg\, MB R3T 3B3 \n\n\n\n\n\n\nABOUT THIS EVENT\nTheme: “Collective Action\, Collective Vision\, Collective Change: Supporting One Another as the Black Winnipeg Collective” \nThe Afro Caribbean Mentorship Program (ACMP) and the University of Manitoba Black Alliance (UMBA) will host its third annual\, one-day (in-person & online) Black History Month (BHM) event. The evening’s festivities will celebrate Afro-Caribbean Black Canadian communities’ by paying homage to our history and celebrating Afro-Caribbean Black (ACB) people’s great accomplishments in our present times. The evening’s social gathering will encourage audience members to dance\, sing and contribute to a thought-provoking panel discussion on the Black experiences in Winnipeg\, empowering our ACB community members\, and supporting local Black Businesses and Initiatives. \nTo ensure we are making our Black History Month event a time to remember\, we will focus on working in solidarity with Black businesses to remind our Winnipeg community to support Black-owned businesses and appreciate the hard work of ACB entrepreneurs. In doing so\, this event will invite Black-owned to collaborate to establish a pop-up shop pre-event and intermission. This is our way to ensure our attendees recognize amazing Black-owned Winnipeg businesses while encouraging them to support these business establishments. We must be vigilant to realize that Black-owned businesses are disproportionately affected by the pandemic and anti-Black racism\, which other ethnic groups do not encounter. \n\n\n\n\n\n\n\nPROGRAM DETAILS\n5:00 pm – 6:00 pm: Black business showcase \n6:15 pm – 7:15 pm: Dinner – Catering by D&M Caribbean Flava \n7:30 pm – 9:30 pm: Main Event \n\n\n\n\n\n\nClick Here to Register
URL:https://ccom-manitoba.com/event/third-annual-black-history-month-fort-richmond-collegiate-february-16-2024-5pm/
ATTACH;FMTTYPE=image/webp:https://ccom-manitoba.com/wp-content/uploads/2024/02/Updated-1.webp
END:VEVENT
BEGIN:VEVENT
DTSTART;TZID=UTC:20240215T130000
DTEND;TZID=UTC:20240215T160000
DTSTAMP:20260421T040202
CREATED:20240205T234220Z
LAST-MODIFIED:20240205T235834Z
UID:2400-1708002000-1708012800@ccom-manitoba.com
SUMMARY:Internet and Phone Security: Avoiding Fraud for Seniors
DESCRIPTION:A financial expert with first-hand information and expertise in this area will be our guest presenter. Please spread the word among your friends and neighbours. Internet and telephone scams are a frequent problem for every-one\, especially for seniors.\nThe Caribbean 55 plus Horizon Club of Manitoba\, Inc.\n5-1100 Fife St. WPG MB R2X 3A5\nCalendar of Events\, 2024 \nEach month’s activity starts at 1PM on the third Thursday of the month. All persons 55+ are\nencouraged to attend our events and/or to become members. For info: Call Joy: (204) 275\n2954\, or email: jpbissoon@gmail.com Or Shirley: shirle@mymts.net or (204)339 0453
URL:https://ccom-manitoba.com/event/internet-and-phone-security-avoiding-fraud-for-seniors/
LOCATION:Caribbean Community Cultural Centre (CCCC)\, 1100 Fife Street\, Winnipeg\, Manitoba\, R2X 3A5\, Canada
CATEGORIES:FALSE
END:VEVENT
BEGIN:VEVENT
DTSTART;TZID=UTC:20240210T093000
DTEND;TZID=UTC:20240210T123000
DTSTAMP:20260421T040202
CREATED:20231118T201602Z
LAST-MODIFIED:20231118T201602Z
UID:2318-1707557400-1707568200@ccom-manitoba.com
SUMMARY:Youth Cricket (Ages 8-14)
DESCRIPTION:Maples Community Centre invites youth 8-14 to join\, Winter indoor cricket\, Learn and play. Registration Fee: Only 40.00 for the indoor and outdoor season. For all registraion fees please contact Maples community Center Karminder 204.953.1190 or email: office@maples.ca
URL:https://ccom-manitoba.com/event/youth-cricket-ages-8-14-13/
LOCATION:Leila North School\, 20 Allan Blye Drive\, Winnipeg\, Manitoba\, Canada
ORGANIZER;CN="Kamta Roy Singh":MAILTO:kroysingh@shaw.ca
END:VEVENT
BEGIN:VEVENT
DTSTART;TZID=UTC:20240204T143000
DTEND;TZID=UTC:20240204T163000
DTSTAMP:20260421T040202
CREATED:20231105T140706Z
LAST-MODIFIED:20231118T202823Z
UID:2280-1707057000-1707064200@ccom-manitoba.com
SUMMARY:BAW - General meeting
DESCRIPTION:February 4th – General meeting
URL:https://ccom-manitoba.com/event/baw-general-meeting/
LOCATION:Bronx Park Community Center\, 720 Henderson Hwy\, Winnipeg\, Manitoba\, Canada
END:VEVENT
BEGIN:VEVENT
DTSTART;TZID=UTC:20240203T093000
DTEND;TZID=UTC:20240203T123000
DTSTAMP:20260421T040202
CREATED:20231118T201602Z
LAST-MODIFIED:20231118T201602Z
UID:2317-1706952600-1706963400@ccom-manitoba.com
SUMMARY:Youth Cricket (Ages 8-14)
DESCRIPTION:Maples Community Centre invites youth 8-14 to join\, Winter indoor cricket\, Learn and play. Registration Fee: Only 40.00 for the indoor and outdoor season. For all registraion fees please contact Maples community Center Karminder 204.953.1190 or email: office@maples.ca
URL:https://ccom-manitoba.com/event/youth-cricket-ages-8-14-12/
LOCATION:Leila North School\, 20 Allan Blye Drive\, Winnipeg\, Manitoba\, Canada
ORGANIZER;CN="Kamta Roy Singh":MAILTO:kroysingh@shaw.ca
END:VEVENT
BEGIN:VEVENT
DTSTART;TZID=UTC:20240127T093000
DTEND;TZID=UTC:20240127T123000
DTSTAMP:20260421T040202
CREATED:20231118T201601Z
LAST-MODIFIED:20231118T201601Z
UID:2316-1706347800-1706358600@ccom-manitoba.com
SUMMARY:Youth Cricket (Ages 8-14)
DESCRIPTION:Maples Community Centre invites youth 8-14 to join\, Winter indoor cricket\, Learn and play. Registration Fee: Only 40.00 for the indoor and outdoor season. For all registraion fees please contact Maples community Center Karminder 204.953.1190 or email: office@maples.ca
URL:https://ccom-manitoba.com/event/youth-cricket-ages-8-14-11/
LOCATION:Leila North School\, 20 Allan Blye Drive\, Winnipeg\, Manitoba\, Canada
ORGANIZER;CN="Kamta Roy Singh":MAILTO:kroysingh@shaw.ca
END:VEVENT
BEGIN:VEVENT
DTSTART;TZID=UTC:20240120T093000
DTEND;TZID=UTC:20240120T123000
DTSTAMP:20260421T040202
CREATED:20231118T201600Z
LAST-MODIFIED:20231118T201600Z
UID:2315-1705743000-1705753800@ccom-manitoba.com
SUMMARY:Youth Cricket (Ages 8-14)
DESCRIPTION:Maples Community Centre invites youth 8-14 to join\, Winter indoor cricket\, Learn and play. Registration Fee: Only 40.00 for the indoor and outdoor season. For all registraion fees please contact Maples community Center Karminder 204.953.1190 or email: office@maples.ca
URL:https://ccom-manitoba.com/event/youth-cricket-ages-8-14-10/
LOCATION:Leila North School\, 20 Allan Blye Drive\, Winnipeg\, Manitoba\, Canada
ORGANIZER;CN="Kamta Roy Singh":MAILTO:kroysingh@shaw.ca
END:VEVENT
END:VCALENDAR