BEGIN:VCALENDAR
VERSION:2.0
PRODID:-//CCOM Manitoba - ECPv6.15.20//NONSGML v1.0//EN
CALSCALE:GREGORIAN
METHOD:PUBLISH
X-ORIGINAL-URL:https://ccom-manitoba.com
X-WR-CALDESC:Events for CCOM Manitoba
REFRESH-INTERVAL;VALUE=DURATION:PT1H
X-Robots-Tag:noindex
X-PUBLISHED-TTL:PT1H
BEGIN:VTIMEZONE
TZID:UTC
BEGIN:STANDARD
TZOFFSETFROM:+0000
TZOFFSETTO:+0000
TZNAME:UTC
DTSTART:20240101T000000
END:STANDARD
END:VTIMEZONE
BEGIN:VEVENT
DTSTART;TZID=UTC:20251102T000000
DTEND;TZID=UTC:20251102T000000
DTSTAMP:20260420T172830
CREATED:20250122T184507Z
LAST-MODIFIED:20250122T184507Z
UID:3332-1762041600-1762041600@ccom-manitoba.com
SUMMARY:Barbados Association - General meeting
DESCRIPTION:Barbados Association – General meeting
URL:https://ccom-manitoba.com/event/barbados-association-general-meeting-7/
LOCATION:Manitoba
END:VEVENT
BEGIN:VEVENT
DTSTART;TZID=UTC:20251108T183000
DTEND;TZID=UTC:20251109T000000
DTSTAMP:20260420T172830
CREATED:20250908T150817Z
LAST-MODIFIED:20250911T015358Z
UID:3455-1762626600-1762646400@ccom-manitoba.com
SUMMARY:Dominica Association Independence Social
DESCRIPTION:Dominica Association Celebrates Dominica’s 47 years of Independence \nTraditional food\, great music \nCost of the Event (Admission)\n$15
URL:https://ccom-manitoba.com/event/dominica-association-independence-social/
LOCATION:Caribbean Community Cultural Centre (CCCC)\, 1100 Fife Street\, Winnipeg\, Manitoba\, R2X 3A5\, Canada
ATTACH;FMTTYPE=image/png:https://ccom-manitoba.com/wp-content/uploads/2025/09/image.png
END:VEVENT
BEGIN:VEVENT
DTSTART;TZID=UTC:20251115T000000
DTEND;TZID=UTC:20251115T000000
DTSTAMP:20260420T172830
CREATED:20250122T184522Z
LAST-MODIFIED:20250122T184522Z
UID:3333-1763164800-1763164800@ccom-manitoba.com
SUMMARY:Barbados Association - Independence & Scholarship Awards Gala (tentative)
DESCRIPTION:Barbados Association – Independence & Scholarship Awards Gala (tentative)
URL:https://ccom-manitoba.com/event/barbados-association-independence-scholarship-awards-gala-tentative/
LOCATION:Manitoba
END:VEVENT
BEGIN:VEVENT
DTSTART;TZID=UTC:20251128T170000
DTEND;TZID=UTC:20251128T220000
DTSTAMP:20260420T172830
CREATED:20251121T023842Z
LAST-MODIFIED:20251121T023842Z
UID:3465-1764349200-1764367200@ccom-manitoba.com
SUMMARY:CCCC Building Fundraising Dinner
DESCRIPTION:CCCC Building Fundraising Dinner
URL:https://ccom-manitoba.com/event/cccc-building-fundraising-dinner/
LOCATION:Caribbean Community Cultural Centre (CCCC)\, 1100 Fife Street\, Winnipeg\, Manitoba\, R2X 3A5\, Canada
ATTACH;FMTTYPE=image/jpeg:https://ccom-manitoba.com/wp-content/uploads/2025/11/image0.jpeg
END:VEVENT
BEGIN:VEVENT
DTSTART;TZID=UTC:20251130T133000
DTEND;TZID=UTC:20251130T173000
DTSTAMP:20260420T172830
CREATED:20251121T024444Z
LAST-MODIFIED:20251121T024555Z
UID:3468-1764509400-1764523800@ccom-manitoba.com
SUMMARY:Cake Social at CCOM
DESCRIPTION:Cake Social community gathering at the CCOM Community Centre on November 30\, 2025 1:30PM to 5:30PM. \nEvent concept\n• A relaxed\, indoor afternoon gathering where attendees bring a cake as their entry contribution (“the only ticket is a cake”).\n• Music will play throughout the event to create a welcoming atmosphere.\n• A short welcome will be provided by Chair Gary Elbers\, followed by remarks acknowledging the matriarchs of the community.\n• Tea\, coffee\, and water will be available.\n• Community organizations may set up tables for membership registration or program information. \nRegistration is required \nCost: One whole cake
URL:https://ccom-manitoba.com/event/cake-social-at-ccom/
LOCATION:Caribbean Community Cultural Centre (CCCC)\, 1100 Fife Street\, Winnipeg\, Manitoba\, R2X 3A5\, Canada
ORGANIZER;CN="Cake Social Planning Committee":MAILTO:4clcevents@gmail.com
END:VEVENT
END:VCALENDAR